BEGIN:VCALENDAR
VERSION:2.0
PRODID:-//Kreisgruppe Wesel - ECPv6.15.20//NONSGML v1.0//EN
CALSCALE:GREGORIAN
METHOD:PUBLISH
X-ORIGINAL-URL:https://gdpnrw.de/wesel
X-WR-CALDESC:Veranstaltungen für Kreisgruppe Wesel
REFRESH-INTERVAL;VALUE=DURATION:PT1H
X-Robots-Tag:noindex
X-PUBLISHED-TTL:PT1H
BEGIN:VTIMEZONE
TZID:Europe/Berlin
BEGIN:DAYLIGHT
TZOFFSETFROM:+0100
TZOFFSETTO:+0200
TZNAME:CEST
DTSTART:20220327T010000
END:DAYLIGHT
BEGIN:STANDARD
TZOFFSETFROM:+0200
TZOFFSETTO:+0100
TZNAME:CET
DTSTART:20221030T010000
END:STANDARD
BEGIN:DAYLIGHT
TZOFFSETFROM:+0100
TZOFFSETTO:+0200
TZNAME:CEST
DTSTART:20230326T010000
END:DAYLIGHT
BEGIN:STANDARD
TZOFFSETFROM:+0200
TZOFFSETTO:+0100
TZNAME:CET
DTSTART:20231029T010000
END:STANDARD
BEGIN:DAYLIGHT
TZOFFSETFROM:+0100
TZOFFSETTO:+0200
TZNAME:CEST
DTSTART:20240331T010000
END:DAYLIGHT
BEGIN:STANDARD
TZOFFSETFROM:+0200
TZOFFSETTO:+0100
TZNAME:CET
DTSTART:20241027T010000
END:STANDARD
END:VTIMEZONE
BEGIN:VEVENT
DTSTART;TZID=Europe/Berlin:20230925T160000
DTEND;TZID=Europe/Berlin:20230925T180000
DTSTAMP:20260422T010002
CREATED:20230906T135852Z
LAST-MODIFIED:20230906T135921Z
UID:10000007-1695657600-1695664800@gdpnrw.de
SUMMARY:Stammtisch für Tarifbeschäftigte
DESCRIPTION:
URL:https://gdpnrw.de/wesel/event/stammtisch-fuer-tarifbeschaeftigte/
LOCATION:Waldstadion BSV Grün-Weiß Wesel – Flüren\, Waldstraße 1\, Wesel\, 46487
END:VEVENT
END:VCALENDAR