BEGIN:VCALENDAR
VERSION:2.0
PRODID:-//Kreisgruppe Wesel - ECPv6.15.17.1//NONSGML v1.0//EN
CALSCALE:GREGORIAN
METHOD:PUBLISH
X-WR-CALNAME:Kreisgruppe Wesel
X-ORIGINAL-URL:https://gdpnrw.de/wesel
X-WR-CALDESC:Veranstaltungen für Kreisgruppe Wesel
REFRESH-INTERVAL;VALUE=DURATION:PT1H
X-Robots-Tag:noindex
X-PUBLISHED-TTL:PT1H
BEGIN:VTIMEZONE
TZID:Europe/Berlin
BEGIN:DAYLIGHT
TZOFFSETFROM:+0100
TZOFFSETTO:+0200
TZNAME:CEST
DTSTART:20230326T010000
END:DAYLIGHT
BEGIN:STANDARD
TZOFFSETFROM:+0200
TZOFFSETTO:+0100
TZNAME:CET
DTSTART:20231029T010000
END:STANDARD
BEGIN:DAYLIGHT
TZOFFSETFROM:+0100
TZOFFSETTO:+0200
TZNAME:CEST
DTSTART:20240331T010000
END:DAYLIGHT
BEGIN:STANDARD
TZOFFSETFROM:+0200
TZOFFSETTO:+0100
TZNAME:CET
DTSTART:20241027T010000
END:STANDARD
BEGIN:DAYLIGHT
TZOFFSETFROM:+0100
TZOFFSETTO:+0200
TZNAME:CEST
DTSTART:20250330T010000
END:DAYLIGHT
BEGIN:STANDARD
TZOFFSETFROM:+0200
TZOFFSETTO:+0100
TZNAME:CET
DTSTART:20251026T010000
END:STANDARD
END:VTIMEZONE
BEGIN:VEVENT
DTSTART;TZID=Europe/Berlin:20240307T160000
DTEND;TZID=Europe/Berlin:20240307T173000
DTSTAMP:20260421T171350
CREATED:20240123T140041Z
LAST-MODIFIED:20240129T081641Z
UID:10000015-1709827200-1709832600@gdpnrw.de
SUMMARY:Stammtisch für Regierungsbeschäftigte
DESCRIPTION:
URL:https://gdpnrw.de/wesel/event/stammtisch-fuer-regierungsbeschaeftigte/
LOCATION:Waldstadion BSV Grün-Weiß Wesel – Flüren\, Waldstraße 1\, Wesel\, 46487
END:VEVENT
END:VCALENDAR