BEGIN:VCALENDAR
VERSION:2.0
PRODID:-//Kreisgruppe Wesel - ECPv6.15.20//NONSGML v1.0//EN
CALSCALE:GREGORIAN
METHOD:PUBLISH
X-ORIGINAL-URL:https://gdpnrw.de/wesel
X-WR-CALDESC:Veranstaltungen für Kreisgruppe Wesel
REFRESH-INTERVAL;VALUE=DURATION:PT1H
X-Robots-Tag:noindex
X-PUBLISHED-TTL:PT1H
BEGIN:VTIMEZONE
TZID:Europe/Berlin
BEGIN:DAYLIGHT
TZOFFSETFROM:+0100
TZOFFSETTO:+0200
TZNAME:CEST
DTSTART:20230326T010000
END:DAYLIGHT
BEGIN:STANDARD
TZOFFSETFROM:+0200
TZOFFSETTO:+0100
TZNAME:CET
DTSTART:20231029T010000
END:STANDARD
BEGIN:DAYLIGHT
TZOFFSETFROM:+0100
TZOFFSETTO:+0200
TZNAME:CEST
DTSTART:20240331T010000
END:DAYLIGHT
BEGIN:STANDARD
TZOFFSETFROM:+0200
TZOFFSETTO:+0100
TZNAME:CET
DTSTART:20241027T010000
END:STANDARD
BEGIN:DAYLIGHT
TZOFFSETFROM:+0100
TZOFFSETTO:+0200
TZNAME:CEST
DTSTART:20250330T010000
END:DAYLIGHT
BEGIN:STANDARD
TZOFFSETFROM:+0200
TZOFFSETTO:+0100
TZNAME:CET
DTSTART:20251026T010000
END:STANDARD
END:VTIMEZONE
BEGIN:VEVENT
DTSTART;TZID=Europe/Berlin:20240126T150000
DTEND;TZID=Europe/Berlin:20240127T020000
DTSTAMP:20260421T202041
CREATED:20231128T084932Z
LAST-MODIFIED:20240123T134822Z
UID:10000013-1706281200-1706320800@gdpnrw.de
SUMMARY:Après Ski 2.0
DESCRIPTION:
URL:https://gdpnrw.de/wesel/event/apres-ski-2-0/
LOCATION:Bürger-Schützenverein zu Wesel e.V.\, An de Tent 9\, Wesel\, 46485\, Deutschland
END:VEVENT
END:VCALENDAR