BEGIN:VCALENDAR
VERSION:2.0
PRODID:-//Kreisgruppe Wesel - ECPv6.15.20//NONSGML v1.0//EN
CALSCALE:GREGORIAN
METHOD:PUBLISH
X-ORIGINAL-URL:https://gdpnrw.de/wesel
X-WR-CALDESC:Veranstaltungen für Kreisgruppe Wesel
REFRESH-INTERVAL;VALUE=DURATION:PT1H
X-Robots-Tag:noindex
X-PUBLISHED-TTL:PT1H
BEGIN:VTIMEZONE
TZID:Europe/Berlin
BEGIN:DAYLIGHT
TZOFFSETFROM:+0100
TZOFFSETTO:+0200
TZNAME:CEST
DTSTART:20220327T010000
END:DAYLIGHT
BEGIN:STANDARD
TZOFFSETFROM:+0200
TZOFFSETTO:+0100
TZNAME:CET
DTSTART:20221030T010000
END:STANDARD
BEGIN:DAYLIGHT
TZOFFSETFROM:+0100
TZOFFSETTO:+0200
TZNAME:CEST
DTSTART:20230326T010000
END:DAYLIGHT
BEGIN:STANDARD
TZOFFSETFROM:+0200
TZOFFSETTO:+0100
TZNAME:CET
DTSTART:20231029T010000
END:STANDARD
BEGIN:DAYLIGHT
TZOFFSETFROM:+0100
TZOFFSETTO:+0200
TZNAME:CEST
DTSTART:20240331T010000
END:DAYLIGHT
BEGIN:STANDARD
TZOFFSETFROM:+0200
TZOFFSETTO:+0100
TZNAME:CET
DTSTART:20241027T010000
END:STANDARD
END:VTIMEZONE
BEGIN:VEVENT
DTSTART;TZID=Europe/Berlin:20231025T150000
DTEND;TZID=Europe/Berlin:20231025T170000
DTSTAMP:20260422T005931
CREATED:20231006T073942Z
LAST-MODIFIED:20231006T073942Z
UID:10000010-1698246000-1698253200@gdpnrw.de
SUMMARY:Jahreshauptversammlung 2023
DESCRIPTION:
URL:https://gdpnrw.de/wesel/event/jahreshauptversammlung-2023/
LOCATION:Bürger-Schützenverein zu Wesel e.V.\, An de Tent 9\, Wesel\, 46485\, Deutschland
END:VEVENT
BEGIN:VEVENT
DTSTART;TZID=Europe/Berlin:20231025T163000
DTEND;TZID=Europe/Berlin:20231025T170000
DTSTAMP:20260422T005931
CREATED:20231006T074218Z
LAST-MODIFIED:20231006T074218Z
UID:10000011-1698251400-1698253200@gdpnrw.de
SUMMARY:Erste Versammlung der Kreisfrauengruppe Wesel
DESCRIPTION:Beginn im Anschluss an die Jahreshauptversammlung.
URL:https://gdpnrw.de/wesel/event/erste-versammlung-der-kreisfrauengruppe-wesel/
LOCATION:Bürger-Schützenverein zu Wesel e.V.\, An de Tent 9\, Wesel\, 46485\, Deutschland
END:VEVENT
END:VCALENDAR