BEGIN:VCALENDAR
VERSION:2.0
PRODID:-//Kreisgruppe Oberhausen - ECPv6.15.20//NONSGML v1.0//EN
CALSCALE:GREGORIAN
METHOD:PUBLISH
X-ORIGINAL-URL:https://gdpnrw.de/oberhausen
X-WR-CALDESC:Veranstaltungen für Kreisgruppe Oberhausen
REFRESH-INTERVAL;VALUE=DURATION:PT1H
X-Robots-Tag:noindex
X-PUBLISHED-TTL:PT1H
BEGIN:VTIMEZONE
TZID:Europe/Berlin
BEGIN:DAYLIGHT
TZOFFSETFROM:+0100
TZOFFSETTO:+0200
TZNAME:CEST
DTSTART:20250330T010000
END:DAYLIGHT
BEGIN:STANDARD
TZOFFSETFROM:+0200
TZOFFSETTO:+0100
TZNAME:CET
DTSTART:20251026T010000
END:STANDARD
BEGIN:DAYLIGHT
TZOFFSETFROM:+0100
TZOFFSETTO:+0200
TZNAME:CEST
DTSTART:20260329T010000
END:DAYLIGHT
BEGIN:STANDARD
TZOFFSETFROM:+0200
TZOFFSETTO:+0100
TZNAME:CET
DTSTART:20261025T010000
END:STANDARD
BEGIN:DAYLIGHT
TZOFFSETFROM:+0100
TZOFFSETTO:+0200
TZNAME:CEST
DTSTART:20270328T010000
END:DAYLIGHT
BEGIN:STANDARD
TZOFFSETFROM:+0200
TZOFFSETTO:+0100
TZNAME:CET
DTSTART:20271031T010000
END:STANDARD
BEGIN:DAYLIGHT
TZOFFSETFROM:+0100
TZOFFSETTO:+0200
TZNAME:CEST
DTSTART:20280326T010000
END:DAYLIGHT
BEGIN:STANDARD
TZOFFSETFROM:+0200
TZOFFSETTO:+0100
TZNAME:CET
DTSTART:20281029T010000
END:STANDARD
END:VTIMEZONE
BEGIN:VEVENT
DTSTART;TZID=Europe/Berlin:20260518T153000
DTEND;TZID=Europe/Berlin:20260518T183000
DTSTAMP:20260426T023732
CREATED:20191121T165321Z
LAST-MODIFIED:20191121T165321Z
UID:693-1779118200-1779129000@gdpnrw.de
SUMMARY:Treffen der Ehemaligen
DESCRIPTION:Das Berufsleben ist zu Ende\, das Gewerkschaftsleben aber noch lange nicht.\nDie Ehemaligen der Kreisgruppe Oberhausen treffen sich einmal im Monat um Fragen zu ihrem Pensions- oder Rentenanspruch zu stellen\, Probleme mit der Beihilfe zu klären\, oder sich einfach nur mal wieder mit den früheren Kolleginnen und Kollegen auszutauschen und um über alte Zeiten zu plaudern. Gerne werden auch gemeinsame Ausflüge unternommen – du bist eingeladen. \nSeniorentreffen:\n3. Montag im Monat\, 15:30 Uhr\nGaststätte Haus Union\, Schenkendorfstraße 13\, 46047 Oberhausen \nAuskunft erteilen:\nDetlef Walther\nTel. 0177/ 15 82 69 9
URL:https://gdpnrw.de/oberhausen/event/18/2026-05-18/
LOCATION:Gaststätte Haus Union\, Schenkendorfstr. 13\, Oberhausen\, 46047\, Deutschland
END:VEVENT
BEGIN:VEVENT
DTSTART;TZID=Europe/Berlin:20260615T153000
DTEND;TZID=Europe/Berlin:20260615T183000
DTSTAMP:20260426T023732
CREATED:20191121T165321Z
LAST-MODIFIED:20191121T165321Z
UID:719-1781537400-1781548200@gdpnrw.de
SUMMARY:Treffen der Ehemaligen
DESCRIPTION:Das Berufsleben ist zu Ende\, das Gewerkschaftsleben aber noch lange nicht.\nDie Ehemaligen der Kreisgruppe Oberhausen treffen sich einmal im Monat um Fragen zu ihrem Pensions- oder Rentenanspruch zu stellen\, Probleme mit der Beihilfe zu klären\, oder sich einfach nur mal wieder mit den früheren Kolleginnen und Kollegen auszutauschen und um über alte Zeiten zu plaudern. Gerne werden auch gemeinsame Ausflüge unternommen – du bist eingeladen. \nSeniorentreffen:\n3. Montag im Monat\, 15:30 Uhr\nGaststätte Haus Union\, Schenkendorfstraße 13\, 46047 Oberhausen \nAuskunft erteilen:\nDetlef Walther\nTel. 0177/ 15 82 69 9
URL:https://gdpnrw.de/oberhausen/event/18/2026-06-15/
LOCATION:Gaststätte Haus Union\, Schenkendorfstr. 13\, Oberhausen\, 46047\, Deutschland
END:VEVENT
BEGIN:VEVENT
DTSTART;TZID=Europe/Berlin:20260720T153000
DTEND;TZID=Europe/Berlin:20260720T183000
DTSTAMP:20260426T023732
CREATED:20191121T165321Z
LAST-MODIFIED:20191121T165321Z
UID:741-1784561400-1784572200@gdpnrw.de
SUMMARY:Treffen der Ehemaligen
DESCRIPTION:Das Berufsleben ist zu Ende\, das Gewerkschaftsleben aber noch lange nicht.\nDie Ehemaligen der Kreisgruppe Oberhausen treffen sich einmal im Monat um Fragen zu ihrem Pensions- oder Rentenanspruch zu stellen\, Probleme mit der Beihilfe zu klären\, oder sich einfach nur mal wieder mit den früheren Kolleginnen und Kollegen auszutauschen und um über alte Zeiten zu plaudern. Gerne werden auch gemeinsame Ausflüge unternommen – du bist eingeladen. \nSeniorentreffen:\n3. Montag im Monat\, 15:30 Uhr\nGaststätte Haus Union\, Schenkendorfstraße 13\, 46047 Oberhausen \nAuskunft erteilen:\nDetlef Walther\nTel. 0177/ 15 82 69 9
URL:https://gdpnrw.de/oberhausen/event/18/2026-07-20/
LOCATION:Gaststätte Haus Union\, Schenkendorfstr. 13\, Oberhausen\, 46047\, Deutschland
END:VEVENT
BEGIN:VEVENT
DTSTART;TZID=Europe/Berlin:20260817T153000
DTEND;TZID=Europe/Berlin:20260817T183000
DTSTAMP:20260426T023732
CREATED:20191121T165321Z
LAST-MODIFIED:20191121T165321Z
UID:742-1786980600-1786991400@gdpnrw.de
SUMMARY:Treffen der Ehemaligen
DESCRIPTION:Das Berufsleben ist zu Ende\, das Gewerkschaftsleben aber noch lange nicht.\nDie Ehemaligen der Kreisgruppe Oberhausen treffen sich einmal im Monat um Fragen zu ihrem Pensions- oder Rentenanspruch zu stellen\, Probleme mit der Beihilfe zu klären\, oder sich einfach nur mal wieder mit den früheren Kolleginnen und Kollegen auszutauschen und um über alte Zeiten zu plaudern. Gerne werden auch gemeinsame Ausflüge unternommen – du bist eingeladen. \nSeniorentreffen:\n3. Montag im Monat\, 15:30 Uhr\nGaststätte Haus Union\, Schenkendorfstraße 13\, 46047 Oberhausen \nAuskunft erteilen:\nDetlef Walther\nTel. 0177/ 15 82 69 9
URL:https://gdpnrw.de/oberhausen/event/18/2026-08-17/
LOCATION:Gaststätte Haus Union\, Schenkendorfstr. 13\, Oberhausen\, 46047\, Deutschland
END:VEVENT
BEGIN:VEVENT
DTSTART;TZID=Europe/Berlin:20260921T153000
DTEND;TZID=Europe/Berlin:20260921T183000
DTSTAMP:20260426T023732
CREATED:20191121T165321Z
LAST-MODIFIED:20191121T165321Z
UID:743-1790004600-1790015400@gdpnrw.de
SUMMARY:Treffen der Ehemaligen
DESCRIPTION:Das Berufsleben ist zu Ende\, das Gewerkschaftsleben aber noch lange nicht.\nDie Ehemaligen der Kreisgruppe Oberhausen treffen sich einmal im Monat um Fragen zu ihrem Pensions- oder Rentenanspruch zu stellen\, Probleme mit der Beihilfe zu klären\, oder sich einfach nur mal wieder mit den früheren Kolleginnen und Kollegen auszutauschen und um über alte Zeiten zu plaudern. Gerne werden auch gemeinsame Ausflüge unternommen – du bist eingeladen. \nSeniorentreffen:\n3. Montag im Monat\, 15:30 Uhr\nGaststätte Haus Union\, Schenkendorfstraße 13\, 46047 Oberhausen \nAuskunft erteilen:\nDetlef Walther\nTel. 0177/ 15 82 69 9
URL:https://gdpnrw.de/oberhausen/event/18/2026-09-21/
LOCATION:Gaststätte Haus Union\, Schenkendorfstr. 13\, Oberhausen\, 46047\, Deutschland
END:VEVENT
BEGIN:VEVENT
DTSTART;TZID=Europe/Berlin:20261019T153000
DTEND;TZID=Europe/Berlin:20261019T183000
DTSTAMP:20260426T023732
CREATED:20191121T165321Z
LAST-MODIFIED:20191121T165321Z
UID:744-1792423800-1792434600@gdpnrw.de
SUMMARY:Treffen der Ehemaligen
DESCRIPTION:Das Berufsleben ist zu Ende\, das Gewerkschaftsleben aber noch lange nicht.\nDie Ehemaligen der Kreisgruppe Oberhausen treffen sich einmal im Monat um Fragen zu ihrem Pensions- oder Rentenanspruch zu stellen\, Probleme mit der Beihilfe zu klären\, oder sich einfach nur mal wieder mit den früheren Kolleginnen und Kollegen auszutauschen und um über alte Zeiten zu plaudern. Gerne werden auch gemeinsame Ausflüge unternommen – du bist eingeladen. \nSeniorentreffen:\n3. Montag im Monat\, 15:30 Uhr\nGaststätte Haus Union\, Schenkendorfstraße 13\, 46047 Oberhausen \nAuskunft erteilen:\nDetlef Walther\nTel. 0177/ 15 82 69 9
URL:https://gdpnrw.de/oberhausen/event/18/2026-10-19/
LOCATION:Gaststätte Haus Union\, Schenkendorfstr. 13\, Oberhausen\, 46047\, Deutschland
END:VEVENT
BEGIN:VEVENT
DTSTART;TZID=Europe/Berlin:20261116T153000
DTEND;TZID=Europe/Berlin:20261116T183000
DTSTAMP:20260426T023732
CREATED:20191121T165321Z
LAST-MODIFIED:20191121T165321Z
UID:745-1794843000-1794853800@gdpnrw.de
SUMMARY:Treffen der Ehemaligen
DESCRIPTION:Das Berufsleben ist zu Ende\, das Gewerkschaftsleben aber noch lange nicht.\nDie Ehemaligen der Kreisgruppe Oberhausen treffen sich einmal im Monat um Fragen zu ihrem Pensions- oder Rentenanspruch zu stellen\, Probleme mit der Beihilfe zu klären\, oder sich einfach nur mal wieder mit den früheren Kolleginnen und Kollegen auszutauschen und um über alte Zeiten zu plaudern. Gerne werden auch gemeinsame Ausflüge unternommen – du bist eingeladen. \nSeniorentreffen:\n3. Montag im Monat\, 15:30 Uhr\nGaststätte Haus Union\, Schenkendorfstraße 13\, 46047 Oberhausen \nAuskunft erteilen:\nDetlef Walther\nTel. 0177/ 15 82 69 9
URL:https://gdpnrw.de/oberhausen/event/18/2026-11-16/
LOCATION:Gaststätte Haus Union\, Schenkendorfstr. 13\, Oberhausen\, 46047\, Deutschland
END:VEVENT
BEGIN:VEVENT
DTSTART;TZID=Europe/Berlin:20261221T153000
DTEND;TZID=Europe/Berlin:20261221T183000
DTSTAMP:20260426T023732
CREATED:20191121T165321Z
LAST-MODIFIED:20191121T165321Z
UID:747-1797867000-1797877800@gdpnrw.de
SUMMARY:Treffen der Ehemaligen
DESCRIPTION:Das Berufsleben ist zu Ende\, das Gewerkschaftsleben aber noch lange nicht.\nDie Ehemaligen der Kreisgruppe Oberhausen treffen sich einmal im Monat um Fragen zu ihrem Pensions- oder Rentenanspruch zu stellen\, Probleme mit der Beihilfe zu klären\, oder sich einfach nur mal wieder mit den früheren Kolleginnen und Kollegen auszutauschen und um über alte Zeiten zu plaudern. Gerne werden auch gemeinsame Ausflüge unternommen – du bist eingeladen. \nSeniorentreffen:\n3. Montag im Monat\, 15:30 Uhr\nGaststätte Haus Union\, Schenkendorfstraße 13\, 46047 Oberhausen \nAuskunft erteilen:\nDetlef Walther\nTel. 0177/ 15 82 69 9
URL:https://gdpnrw.de/oberhausen/event/18/2026-12-21/
LOCATION:Gaststätte Haus Union\, Schenkendorfstr. 13\, Oberhausen\, 46047\, Deutschland
END:VEVENT
BEGIN:VEVENT
DTSTART;TZID=Europe/Berlin:20270118T153000
DTEND;TZID=Europe/Berlin:20270118T183000
DTSTAMP:20260426T023732
CREATED:20191121T165321Z
LAST-MODIFIED:20191121T165321Z
UID:748-1800286200-1800297000@gdpnrw.de
SUMMARY:Treffen der Ehemaligen
DESCRIPTION:Das Berufsleben ist zu Ende\, das Gewerkschaftsleben aber noch lange nicht.\nDie Ehemaligen der Kreisgruppe Oberhausen treffen sich einmal im Monat um Fragen zu ihrem Pensions- oder Rentenanspruch zu stellen\, Probleme mit der Beihilfe zu klären\, oder sich einfach nur mal wieder mit den früheren Kolleginnen und Kollegen auszutauschen und um über alte Zeiten zu plaudern. Gerne werden auch gemeinsame Ausflüge unternommen – du bist eingeladen. \nSeniorentreffen:\n3. Montag im Monat\, 15:30 Uhr\nGaststätte Haus Union\, Schenkendorfstraße 13\, 46047 Oberhausen \nAuskunft erteilen:\nDetlef Walther\nTel. 0177/ 15 82 69 9
URL:https://gdpnrw.de/oberhausen/event/18/2027-01-18/
LOCATION:Gaststätte Haus Union\, Schenkendorfstr. 13\, Oberhausen\, 46047\, Deutschland
END:VEVENT
BEGIN:VEVENT
DTSTART;TZID=Europe/Berlin:20270215T153000
DTEND;TZID=Europe/Berlin:20270215T183000
DTSTAMP:20260426T023732
CREATED:20191121T165321Z
LAST-MODIFIED:20191121T165321Z
UID:749-1802705400-1802716200@gdpnrw.de
SUMMARY:Treffen der Ehemaligen
DESCRIPTION:Das Berufsleben ist zu Ende\, das Gewerkschaftsleben aber noch lange nicht.\nDie Ehemaligen der Kreisgruppe Oberhausen treffen sich einmal im Monat um Fragen zu ihrem Pensions- oder Rentenanspruch zu stellen\, Probleme mit der Beihilfe zu klären\, oder sich einfach nur mal wieder mit den früheren Kolleginnen und Kollegen auszutauschen und um über alte Zeiten zu plaudern. Gerne werden auch gemeinsame Ausflüge unternommen – du bist eingeladen. \nSeniorentreffen:\n3. Montag im Monat\, 15:30 Uhr\nGaststätte Haus Union\, Schenkendorfstraße 13\, 46047 Oberhausen \nAuskunft erteilen:\nDetlef Walther\nTel. 0177/ 15 82 69 9
URL:https://gdpnrw.de/oberhausen/event/18/2027-02-15/
LOCATION:Gaststätte Haus Union\, Schenkendorfstr. 13\, Oberhausen\, 46047\, Deutschland
END:VEVENT
BEGIN:VEVENT
DTSTART;TZID=Europe/Berlin:20270315T153000
DTEND;TZID=Europe/Berlin:20270315T183000
DTSTAMP:20260426T023732
CREATED:20191121T165321Z
LAST-MODIFIED:20191121T165321Z
UID:750-1805124600-1805135400@gdpnrw.de
SUMMARY:Treffen der Ehemaligen
DESCRIPTION:Das Berufsleben ist zu Ende\, das Gewerkschaftsleben aber noch lange nicht.\nDie Ehemaligen der Kreisgruppe Oberhausen treffen sich einmal im Monat um Fragen zu ihrem Pensions- oder Rentenanspruch zu stellen\, Probleme mit der Beihilfe zu klären\, oder sich einfach nur mal wieder mit den früheren Kolleginnen und Kollegen auszutauschen und um über alte Zeiten zu plaudern. Gerne werden auch gemeinsame Ausflüge unternommen – du bist eingeladen. \nSeniorentreffen:\n3. Montag im Monat\, 15:30 Uhr\nGaststätte Haus Union\, Schenkendorfstraße 13\, 46047 Oberhausen \nAuskunft erteilen:\nDetlef Walther\nTel. 0177/ 15 82 69 9
URL:https://gdpnrw.de/oberhausen/event/18/2027-03-15/
LOCATION:Gaststätte Haus Union\, Schenkendorfstr. 13\, Oberhausen\, 46047\, Deutschland
END:VEVENT
BEGIN:VEVENT
DTSTART;TZID=Europe/Berlin:20270419T153000
DTEND;TZID=Europe/Berlin:20270419T183000
DTSTAMP:20260426T023732
CREATED:20191121T165321Z
LAST-MODIFIED:20191121T165321Z
UID:758-1808148600-1808159400@gdpnrw.de
SUMMARY:Treffen der Ehemaligen
DESCRIPTION:Das Berufsleben ist zu Ende\, das Gewerkschaftsleben aber noch lange nicht.\nDie Ehemaligen der Kreisgruppe Oberhausen treffen sich einmal im Monat um Fragen zu ihrem Pensions- oder Rentenanspruch zu stellen\, Probleme mit der Beihilfe zu klären\, oder sich einfach nur mal wieder mit den früheren Kolleginnen und Kollegen auszutauschen und um über alte Zeiten zu plaudern. Gerne werden auch gemeinsame Ausflüge unternommen – du bist eingeladen. \nSeniorentreffen:\n3. Montag im Monat\, 15:30 Uhr\nGaststätte Haus Union\, Schenkendorfstraße 13\, 46047 Oberhausen \nAuskunft erteilen:\nDetlef Walther\nTel. 0177/ 15 82 69 9
URL:https://gdpnrw.de/oberhausen/event/18/2027-04-19/
LOCATION:Gaststätte Haus Union\, Schenkendorfstr. 13\, Oberhausen\, 46047\, Deutschland
END:VEVENT
BEGIN:VEVENT
DTSTART;TZID=Europe/Berlin:20270517T153000
DTEND;TZID=Europe/Berlin:20270517T183000
DTSTAMP:20260426T023732
CREATED:20191121T165321Z
LAST-MODIFIED:20191121T165321Z
UID:759-1810567800-1810578600@gdpnrw.de
SUMMARY:Treffen der Ehemaligen
DESCRIPTION:Das Berufsleben ist zu Ende\, das Gewerkschaftsleben aber noch lange nicht.\nDie Ehemaligen der Kreisgruppe Oberhausen treffen sich einmal im Monat um Fragen zu ihrem Pensions- oder Rentenanspruch zu stellen\, Probleme mit der Beihilfe zu klären\, oder sich einfach nur mal wieder mit den früheren Kolleginnen und Kollegen auszutauschen und um über alte Zeiten zu plaudern. Gerne werden auch gemeinsame Ausflüge unternommen – du bist eingeladen. \nSeniorentreffen:\n3. Montag im Monat\, 15:30 Uhr\nGaststätte Haus Union\, Schenkendorfstraße 13\, 46047 Oberhausen \nAuskunft erteilen:\nDetlef Walther\nTel. 0177/ 15 82 69 9
URL:https://gdpnrw.de/oberhausen/event/18/2027-05-17/
LOCATION:Gaststätte Haus Union\, Schenkendorfstr. 13\, Oberhausen\, 46047\, Deutschland
END:VEVENT
END:VCALENDAR