BEGIN:VCALENDAR
VERSION:2.0
PRODID:-//Kreisgruppe Märkischer Kreis - ECPv6.15.20//NONSGML v1.0//EN
CALSCALE:GREGORIAN
METHOD:PUBLISH
X-ORIGINAL-URL:https://gdpnrw.de/maerkischer-kreis
X-WR-CALDESC:Veranstaltungen für Kreisgruppe Märkischer Kreis
REFRESH-INTERVAL;VALUE=DURATION:PT1H
X-Robots-Tag:noindex
X-PUBLISHED-TTL:PT1H
BEGIN:VTIMEZONE
TZID:Europe/Berlin
BEGIN:DAYLIGHT
TZOFFSETFROM:+0100
TZOFFSETTO:+0200
TZNAME:CEST
DTSTART:20210328T010000
END:DAYLIGHT
BEGIN:STANDARD
TZOFFSETFROM:+0200
TZOFFSETTO:+0100
TZNAME:CET
DTSTART:20211031T010000
END:STANDARD
BEGIN:DAYLIGHT
TZOFFSETFROM:+0100
TZOFFSETTO:+0200
TZNAME:CEST
DTSTART:20220327T010000
END:DAYLIGHT
BEGIN:STANDARD
TZOFFSETFROM:+0200
TZOFFSETTO:+0100
TZNAME:CET
DTSTART:20221030T010000
END:STANDARD
BEGIN:DAYLIGHT
TZOFFSETFROM:+0100
TZOFFSETTO:+0200
TZNAME:CEST
DTSTART:20230326T010000
END:DAYLIGHT
BEGIN:STANDARD
TZOFFSETFROM:+0200
TZOFFSETTO:+0100
TZNAME:CET
DTSTART:20231029T010000
END:STANDARD
BEGIN:DAYLIGHT
TZOFFSETFROM:+0100
TZOFFSETTO:+0200
TZNAME:CEST
DTSTART:20240331T010000
END:DAYLIGHT
BEGIN:STANDARD
TZOFFSETFROM:+0200
TZOFFSETTO:+0100
TZNAME:CET
DTSTART:20241027T010000
END:STANDARD
BEGIN:DAYLIGHT
TZOFFSETFROM:+0100
TZOFFSETTO:+0200
TZNAME:CEST
DTSTART:20250330T010000
END:DAYLIGHT
BEGIN:STANDARD
TZOFFSETFROM:+0200
TZOFFSETTO:+0100
TZNAME:CET
DTSTART:20251026T010000
END:STANDARD
END:VTIMEZONE
BEGIN:VEVENT
DTSTART;TZID=Europe/Berlin:20241105T130000
DTEND;TZID=Europe/Berlin:20241105T153000
DTSTAMP:20260422T123548
CREATED:20240131T150847Z
LAST-MODIFIED:20240131T150847Z
UID:1204-1730811600-1730820600@gdpnrw.de
SUMMARY:Mitgliederversammlung 2024
DESCRIPTION:Die Tagesordnung wird noch nachgeliefert \nErnst Herget und Landrat Marco Voge haben bereits zugesagt
URL:https://gdpnrw.de/maerkischer-kreis/event/mitgliederversammlung-2024/
LOCATION:Zur Post\, Ohle\, Friedrich-Maiweg-Straße 8A\, Plettenberg\, 58840\, Deutschland
ATTACH;FMTTYPE=image/jpeg:https://gdpnrw.de/maerkischer-kreis/wp-content/uploads/sites/29/2023/12/231129-GdP-MK-Mitgliederversammlung_003-scaled.jpg
END:VEVENT
BEGIN:VEVENT
DTSTART;TZID=Europe/Berlin:20231129T130000
DTEND;TZID=Europe/Berlin:20231129T163000
DTSTAMP:20260422T123548
CREATED:20220110T125243Z
LAST-MODIFIED:20231122T140512Z
UID:762-1701262800-1701275400@gdpnrw.de
SUMMARY:Mitgliederversammlung 2023\, Änderung der Tagesordnung
DESCRIPTION:TOP 7 wurde wie folgt geändert: \nDer neue Bezirksvorsitzender\, Ernst Herget übernimmt den TOP 7 \n  \nTagesordnung \n\nBegrüßung\n\nVorsitzender\nLandrat Marco Voge\n\n\n\n\n\n\n\nEhrungen\nBericht der Kassiererin mit Aussprache\nTätigkeitsbericht des Vorsitzenden mit Aussprache\nBericht aus dem Tarifbereich\, Barbara Krause\nAbstimmung über die Vorschlagliste für die PR-Wahl 2024\nBericht des Bezirksvorsitzenden\, Ernst Herget zu Landesthemen\nVerabschiedung Andreas Barnewitz\nVerschiedenes\nVerlosung\nSchlusswort\n\nAnträge erbitten wir schriftlich bis zum 15.11.2023.\nDarüber hinaus können Anträge aber auch bei der Versammlung vor Ort erfolgen. \nZu TOP 2\nAlle zu Ehrenden sind von uns per Post oder Mail anschrieben und eingeladen worden. Ob der großen Zahl der Daten können sich dabei mitunter Fehler einschleichen.\nWenn du nach dir bekannten Daten ebenfalls zu den Jubilaren gehören solltest aber nicht eingeladen wurdest\, dann melde dich bitte unbedingt; E-Mail
URL:https://gdpnrw.de/maerkischer-kreis/event/mitgliederversammlung-2023/
LOCATION:Zur Post\, Ohle\, Friedrich-Maiweg-Straße 8A\, Plettenberg\, 58840\, Deutschland
ATTACH;FMTTYPE=image/jpeg:https://gdpnrw.de/maerkischer-kreis/wp-content/uploads/sites/29/2022/10/Michael-Kaufhold.jpg
END:VEVENT
BEGIN:VEVENT
DTSTART;TZID=Europe/Berlin:20230927T090000
DTEND;TZID=Europe/Berlin:20230927T150000
DTSTAMP:20260422T123548
CREATED:20230816T132215Z
LAST-MODIFIED:20230824T121449Z
UID:1058-1695805200-1695826800@gdpnrw.de
SUMMARY:Tarifseminar 2023
DESCRIPTION:Es ist wieder soweit ! \nDas diesjährige Fachseminar TARIF startet am Mittwoch\, 27. September 2023 um 9:oo Uhr in Plettenberg-Ohle\, Restaurant „Zur Post“. \nAnmeldungen sind nur noch bis zum 15.09.2023 per E-Mail an Barbara Krause möglich. \nSei dabei ! Unser AL-Pol Herr Wagener\, unsere Tarifvertreterin im PHPR Düsseldorf\, Jutta Jakobs besuchen uns u.a. und wir werden einen interessanten „Tariftag“ haben!
URL:https://gdpnrw.de/maerkischer-kreis/event/tarifseminar-2023/
LOCATION:Zur Post\, Ohle\, Friedrich-Maiweg-Straße 8A\, Plettenberg\, 58840\, Deutschland
ATTACH;FMTTYPE=image/jpeg:https://gdpnrw.de/maerkischer-kreis/wp-content/uploads/sites/29/2023/08/Gruppenfoto-Tarif.jpg
END:VEVENT
BEGIN:VEVENT
DTSTART;TZID=Europe/Berlin:20220516T090000
DTEND;TZID=Europe/Berlin:20220516T143000
DTSTAMP:20260422T123548
CREATED:20220217T152546Z
LAST-MODIFIED:20220217T152546Z
UID:769-1652691600-1652711400@gdpnrw.de
SUMMARY:Tarifseminar 2022
DESCRIPTION:Anmeldungen sind ab sofort über Barbara möglich…
URL:https://gdpnrw.de/maerkischer-kreis/event/tarifseminar-2022/
LOCATION:Zur Post\, Ohle\, Friedrich-Maiweg-Straße 8A\, Plettenberg\, 58840\, Deutschland
ATTACH;FMTTYPE=image/jpeg:https://gdpnrw.de/maerkischer-kreis/wp-content/uploads/sites/29/2020/02/Tarif-2019-Gruppe-e1639068134620.jpg
END:VEVENT
END:VCALENDAR