BEGIN:VCALENDAR
VERSION:2.0
PRODID:-//Kreisgruppe Märkischer Kreis - ECPv6.15.20//NONSGML v1.0//EN
CALSCALE:GREGORIAN
METHOD:PUBLISH
X-WR-CALNAME:Kreisgruppe Märkischer Kreis
X-ORIGINAL-URL:https://gdpnrw.de/maerkischer-kreis
X-WR-CALDESC:Veranstaltungen für Kreisgruppe Märkischer Kreis
REFRESH-INTERVAL;VALUE=DURATION:PT1H
X-Robots-Tag:noindex
X-PUBLISHED-TTL:PT1H
BEGIN:VTIMEZONE
TZID:Europe/Berlin
BEGIN:DAYLIGHT
TZOFFSETFROM:+0100
TZOFFSETTO:+0200
TZNAME:CEST
DTSTART:20200329T010000
END:DAYLIGHT
BEGIN:STANDARD
TZOFFSETFROM:+0200
TZOFFSETTO:+0100
TZNAME:CET
DTSTART:20201025T010000
END:STANDARD
BEGIN:DAYLIGHT
TZOFFSETFROM:+0100
TZOFFSETTO:+0200
TZNAME:CEST
DTSTART:20210328T010000
END:DAYLIGHT
BEGIN:STANDARD
TZOFFSETFROM:+0200
TZOFFSETTO:+0100
TZNAME:CET
DTSTART:20211031T010000
END:STANDARD
BEGIN:DAYLIGHT
TZOFFSETFROM:+0100
TZOFFSETTO:+0200
TZNAME:CEST
DTSTART:20220327T010000
END:DAYLIGHT
BEGIN:STANDARD
TZOFFSETFROM:+0200
TZOFFSETTO:+0100
TZNAME:CET
DTSTART:20221030T010000
END:STANDARD
BEGIN:DAYLIGHT
TZOFFSETFROM:+0100
TZOFFSETTO:+0200
TZNAME:CEST
DTSTART:20230326T010000
END:DAYLIGHT
BEGIN:STANDARD
TZOFFSETFROM:+0200
TZOFFSETTO:+0100
TZNAME:CET
DTSTART:20231029T010000
END:STANDARD
BEGIN:DAYLIGHT
TZOFFSETFROM:+0100
TZOFFSETTO:+0200
TZNAME:CEST
DTSTART:20240331T010000
END:DAYLIGHT
BEGIN:STANDARD
TZOFFSETFROM:+0200
TZOFFSETTO:+0100
TZNAME:CET
DTSTART:20241027T010000
END:STANDARD
BEGIN:DAYLIGHT
TZOFFSETFROM:+0100
TZOFFSETTO:+0200
TZNAME:CEST
DTSTART:20250330T010000
END:DAYLIGHT
BEGIN:STANDARD
TZOFFSETFROM:+0200
TZOFFSETTO:+0100
TZNAME:CET
DTSTART:20251026T010000
END:STANDARD
BEGIN:DAYLIGHT
TZOFFSETFROM:+0100
TZOFFSETTO:+0200
TZNAME:CEST
DTSTART:20260329T010000
END:DAYLIGHT
BEGIN:STANDARD
TZOFFSETFROM:+0200
TZOFFSETTO:+0100
TZNAME:CET
DTSTART:20261025T010000
END:STANDARD
END:VTIMEZONE
BEGIN:VEVENT
DTSTART;TZID=Europe/Berlin:20250915T160000
DTEND;TZID=Europe/Berlin:20250915T180000
DTSTAMP:20260422T113841
CREATED:20250520T111203Z
LAST-MODIFIED:20250520T111203Z
UID:1448-1757952000-1757959200@gdpnrw.de
SUMMARY:Erweiterte Vorstandssitzung 2/2025
DESCRIPTION:
URL:https://gdpnrw.de/maerkischer-kreis/event/erweiterte-vorstandssitzung-2-2025/
LOCATION:Sokola.de\, Mittelweg 15\, Balve\, NRW\, 58802
END:VEVENT
BEGIN:VEVENT
DTSTART;TZID=Europe/Berlin:20250915T144500
DTEND;TZID=Europe/Berlin:20250915T160000
DTSTAMP:20260422T113841
CREATED:20250520T111100Z
LAST-MODIFIED:20250520T111100Z
UID:1446-1757947500-1757952000@gdpnrw.de
SUMMARY:Geschäftsführende Vorstandssitzung 2/2025
DESCRIPTION:
URL:https://gdpnrw.de/maerkischer-kreis/event/geschaeftsfuehrende-vorstandssitzung-2-2025/
LOCATION:Sokola.de\, Mittelweg 15\, Balve\, NRW\, 58802
END:VEVENT
BEGIN:VEVENT
DTSTART;TZID=Europe/Berlin:20250225T160000
DTEND;TZID=Europe/Berlin:20250225T183000
DTSTAMP:20260422T113841
CREATED:20241120T114010Z
LAST-MODIFIED:20241120T114010Z
UID:1307-1740499200-1740508200@gdpnrw.de
SUMMARY:Erweiterte Vorstandssitzung 1/2025
DESCRIPTION:
URL:https://gdpnrw.de/maerkischer-kreis/event/erweiterte-vorstandssitzung-1-2025/
LOCATION:Sokola.de\, Mittelweg 15\, Balve\, NRW\, 58802
END:VEVENT
BEGIN:VEVENT
DTSTART;TZID=Europe/Berlin:20250225T144500
DTEND;TZID=Europe/Berlin:20250225T160000
DTSTAMP:20260422T113841
CREATED:20241120T113832Z
LAST-MODIFIED:20241120T113832Z
UID:1305-1740494700-1740499200@gdpnrw.de
SUMMARY:Geschäftsführende Vorstandssitzung 1/2025
DESCRIPTION:
URL:https://gdpnrw.de/maerkischer-kreis/event/geschaeftsfuehrende-vorstandssitzung-1-2025/
LOCATION:Sokola.de\, Mittelweg 15\, Balve\, NRW\, 58802
END:VEVENT
BEGIN:VEVENT
DTSTART;TZID=Europe/Berlin:20241002T160000
DTEND;TZID=Europe/Berlin:20241002T183000
DTSTAMP:20260422T113841
CREATED:20231212T100331Z
LAST-MODIFIED:20240314T131944Z
UID:965-1727884800-1727893800@gdpnrw.de
SUMMARY:Erweiterter Vorstand 2/24
DESCRIPTION:Die Tagesordnung geht den Mitgliedern per E-Mail zu
URL:https://gdpnrw.de/maerkischer-kreis/event/erweiterter-vorstand-1-24/
LOCATION:Sokola.de\, Mittelweg 15\, Balve\, NRW\, 58802
ATTACH;FMTTYPE=image/jpeg:https://gdpnrw.de/maerkischer-kreis/wp-content/uploads/sites/29/2021/12/Vorstandssitzung-01_klein.jpg
END:VEVENT
BEGIN:VEVENT
DTSTART;TZID=Europe/Berlin:20241002T143000
DTEND;TZID=Europe/Berlin:20241002T160000
DTSTAMP:20260422T113841
CREATED:20231212T100450Z
LAST-MODIFIED:20240314T132057Z
UID:963-1727879400-1727884800@gdpnrw.de
SUMMARY:Geschäftsführender Vorstand 2/24
DESCRIPTION:Die Tagesordnung geht den Mitgliedern per E-Mail zu
URL:https://gdpnrw.de/maerkischer-kreis/event/geschaeftsfuehrender-vorstand-2-23/
LOCATION:Sokola.de\, Mittelweg 15\, Balve\, NRW\, 58802
ATTACH;FMTTYPE=image/jpeg:https://gdpnrw.de/maerkischer-kreis/wp-content/uploads/sites/29/2023/03/Uebersicht.jpg
END:VEVENT
BEGIN:VEVENT
DTSTART;TZID=Europe/Berlin:20230327T160000
DTEND;TZID=Europe/Berlin:20230327T183000
DTSTAMP:20260422T113841
CREATED:20220408T101447Z
LAST-MODIFIED:20221206T103750Z
UID:813-1679932800-1679941800@gdpnrw.de
SUMMARY:1. Sitzung 2023 erweiterter Vorstand
DESCRIPTION:
URL:https://gdpnrw.de/maerkischer-kreis/event/2-sitzung-2022-erweiterter-vorstand/
LOCATION:Sokola.de\, Mittelweg 15\, Balve\, NRW\, 58802
ATTACH;FMTTYPE=image/jpeg:https://gdpnrw.de/maerkischer-kreis/wp-content/uploads/sites/29/2022/04/Vorstand-1_20220331_162524-scaled.jpg
END:VEVENT
BEGIN:VEVENT
DTSTART;TZID=Europe/Berlin:20230327T143000
DTEND;TZID=Europe/Berlin:20230327T160000
DTSTAMP:20260422T113841
CREATED:20220408T101259Z
LAST-MODIFIED:20221206T103626Z
UID:809-1679927400-1679932800@gdpnrw.de
SUMMARY:1. Sitzung 2023 geschäftsführender Vorstand
DESCRIPTION:
URL:https://gdpnrw.de/maerkischer-kreis/event/2-sitzung-2022-geschaeftsfuehrender-vorstand/
LOCATION:Sokola.de\, Mittelweg 15\, Balve\, NRW\, 58802
ATTACH;FMTTYPE=image/jpeg:https://gdpnrw.de/maerkischer-kreis/wp-content/uploads/sites/29/2022/04/Vorstand-1_20220331_162524-scaled.jpg
END:VEVENT
BEGIN:VEVENT
DTSTART;TZID=Europe/Berlin:20220331T160000
DTEND;TZID=Europe/Berlin:20220331T180000
DTSTAMP:20260422T113841
CREATED:20211209T170158Z
LAST-MODIFIED:20211212T152012Z
UID:730-1648742400-1648749600@gdpnrw.de
SUMMARY:1. Vorstandssitzung 2022
DESCRIPTION:Der Termin steht schon einmal. \nWir hoffen\, uns in Präsenz sehen zu können. Die Sokola.de ist bereits gebucht.
URL:https://gdpnrw.de/maerkischer-kreis/event/1-vorstandssitzung-2022/
LOCATION:Sokola.de\, Mittelweg 15\, Balve\, NRW\, 58802
ATTACH;FMTTYPE=image/jpeg:https://gdpnrw.de/maerkischer-kreis/wp-content/uploads/sites/29/2021/12/Vorstandssitzung-01_klein.jpg
END:VEVENT
BEGIN:VEVENT
DTSTART;TZID=Europe/Berlin:20210701T160000
DTEND;TZID=Europe/Berlin:20210701T183000
DTSTAMP:20260422T113841
CREATED:20210601T073514Z
LAST-MODIFIED:20210601T073514Z
UID:620-1625155200-1625164200@gdpnrw.de
SUMMARY:Erweiterte Vorstandssitzung 2/21
DESCRIPTION:zu Beginn wird ein kleiner Imbiß gereicht.
URL:https://gdpnrw.de/maerkischer-kreis/event/erweiterte-vorstandssitzung-2-21/
LOCATION:Sokola.de\, Mittelweg 15\, Balve\, NRW\, 58802
ATTACH;FMTTYPE=image/jpeg:https://gdpnrw.de/maerkischer-kreis/wp-content/uploads/sites/29/2020/03/Vorstand-1_2020.jpg
END:VEVENT
BEGIN:VEVENT
DTSTART;TZID=Europe/Berlin:20210701T144500
DTEND;TZID=Europe/Berlin:20210701T160000
DTSTAMP:20260422T113841
CREATED:20210601T073204Z
LAST-MODIFIED:20210601T073204Z
UID:617-1625150700-1625155200@gdpnrw.de
SUMMARY:Geschäftsführende Vorstandssitzung 2/21
DESCRIPTION:ab 16.00 Uhr erweiterte Vorstandssitzung
URL:https://gdpnrw.de/maerkischer-kreis/event/geschaeftsfuehrende-vorstandssitzung-2-21/
LOCATION:Sokola.de\, Mittelweg 15\, Balve\, NRW\, 58802
ATTACH;FMTTYPE=image/jpeg:https://gdpnrw.de/maerkischer-kreis/wp-content/uploads/sites/29/2019/12/053.jpg
END:VEVENT
END:VCALENDAR