BEGIN:VCALENDAR
VERSION:2.0
PRODID:-//Kreisgruppe Märkischer Kreis - ECPv6.15.20//NONSGML v1.0//EN
CALSCALE:GREGORIAN
METHOD:PUBLISH
X-WR-CALNAME:Kreisgruppe Märkischer Kreis
X-ORIGINAL-URL:https://gdpnrw.de/maerkischer-kreis
X-WR-CALDESC:Veranstaltungen für Kreisgruppe Märkischer Kreis
REFRESH-INTERVAL;VALUE=DURATION:PT1H
X-Robots-Tag:noindex
X-PUBLISHED-TTL:PT1H
BEGIN:VTIMEZONE
TZID:Europe/Berlin
BEGIN:DAYLIGHT
TZOFFSETFROM:+0100
TZOFFSETTO:+0200
TZNAME:CEST
DTSTART:20250330T010000
END:DAYLIGHT
BEGIN:STANDARD
TZOFFSETFROM:+0200
TZOFFSETTO:+0100
TZNAME:CET
DTSTART:20251026T010000
END:STANDARD
BEGIN:DAYLIGHT
TZOFFSETFROM:+0100
TZOFFSETTO:+0200
TZNAME:CEST
DTSTART:20260329T010000
END:DAYLIGHT
BEGIN:STANDARD
TZOFFSETFROM:+0200
TZOFFSETTO:+0100
TZNAME:CET
DTSTART:20261025T010000
END:STANDARD
BEGIN:DAYLIGHT
TZOFFSETFROM:+0100
TZOFFSETTO:+0200
TZNAME:CEST
DTSTART:20270328T010000
END:DAYLIGHT
BEGIN:STANDARD
TZOFFSETFROM:+0200
TZOFFSETTO:+0100
TZNAME:CET
DTSTART:20271031T010000
END:STANDARD
END:VTIMEZONE
BEGIN:VEVENT
DTSTART;TZID=Europe/Berlin:20261005T130000
DTEND;TZID=Europe/Berlin:20261005T170000
DTSTAMP:20260422T082121
CREATED:20260123T101957Z
LAST-MODIFIED:20260123T102037Z
UID:1677-1791205200-1791219600@gdpnrw.de
SUMMARY:Mitgliederversammlung
DESCRIPTION:Einladung folgt
URL:https://gdpnrw.de/maerkischer-kreis/event/mitgliederversammlung/
LOCATION:Neuenrade Wilhelmshöhe\, Werdohler Str. 54\, Neuenrade\, 58809
ATTACH;FMTTYPE=image/jpeg:https://gdpnrw.de/maerkischer-kreis/wp-content/uploads/sites/29/2025/11/JHV2025-61-scaled.jpg
END:VEVENT
END:VCALENDAR