BEGIN:VCALENDAR
VERSION:2.0
PRODID:-//Kreisgruppe Märkischer Kreis - ECPv6.15.20//NONSGML v1.0//EN
CALSCALE:GREGORIAN
METHOD:PUBLISH
X-ORIGINAL-URL:https://gdpnrw.de/maerkischer-kreis
X-WR-CALDESC:Veranstaltungen für Kreisgruppe Märkischer Kreis
REFRESH-INTERVAL;VALUE=DURATION:PT1H
X-Robots-Tag:noindex
X-PUBLISHED-TTL:PT1H
BEGIN:VTIMEZONE
TZID:Europe/Berlin
BEGIN:DAYLIGHT
TZOFFSETFROM:+0100
TZOFFSETTO:+0200
TZNAME:CEST
DTSTART:20190331T010000
END:DAYLIGHT
BEGIN:STANDARD
TZOFFSETFROM:+0200
TZOFFSETTO:+0100
TZNAME:CET
DTSTART:20191027T010000
END:STANDARD
BEGIN:DAYLIGHT
TZOFFSETFROM:+0100
TZOFFSETTO:+0200
TZNAME:CEST
DTSTART:20200329T010000
END:DAYLIGHT
BEGIN:STANDARD
TZOFFSETFROM:+0200
TZOFFSETTO:+0100
TZNAME:CET
DTSTART:20201025T010000
END:STANDARD
BEGIN:DAYLIGHT
TZOFFSETFROM:+0100
TZOFFSETTO:+0200
TZNAME:CEST
DTSTART:20210328T010000
END:DAYLIGHT
BEGIN:STANDARD
TZOFFSETFROM:+0200
TZOFFSETTO:+0100
TZNAME:CET
DTSTART:20211031T010000
END:STANDARD
BEGIN:DAYLIGHT
TZOFFSETFROM:+0100
TZOFFSETTO:+0200
TZNAME:CEST
DTSTART:20220327T010000
END:DAYLIGHT
BEGIN:STANDARD
TZOFFSETFROM:+0200
TZOFFSETTO:+0100
TZNAME:CET
DTSTART:20221030T010000
END:STANDARD
END:VTIMEZONE
BEGIN:VEVENT
DTSTART;TZID=Europe/Berlin:20211206T130000
DTEND;TZID=Europe/Berlin:20211206T160000
DTSTAMP:20260422T095713
CREATED:20210507T100716Z
LAST-MODIFIED:20211129T123113Z
UID:595-1638795600-1638806400@gdpnrw.de
SUMMARY:Jahreshauptversammlung\, nur digital!!!
DESCRIPTION:Die offizielle Einladung mit Tagesordnung findet ihr durch klick hier: Einladung neu digital 29.11.2021 \nWir haben uns entschlossen\, die Veranstaltung nicht Präsenz abzuhalten\, weil wir das im Moment nicht vertretbar halten. \nBitte meldet euch rechtzeitig an unter anmeldung@gdpmk.de \nGebt dabei unbedingt eine private E-Mail-Adresse an\, an die wir am Veranstaltungstag den Link für die Teams-ViKo schicken können. \nLogt euch bitte mit eurem Vor- und Zunamen in die Sitzung ein\, damit wir eine korrekte Anwesenheitsliste haben. \nEine Teilnahme über CN-Pol Rechner ist nicht möglich.
URL:https://gdpnrw.de/maerkischer-kreis/event/jahreshauptversammlung/
LOCATION:Internet\, digitale Versammlung
ATTACH;FMTTYPE=image/jpeg:https://gdpnrw.de/maerkischer-kreis/wp-content/uploads/sites/29/2019/11/JHV2019-28-Kaufhold.jpg
END:VEVENT
BEGIN:VEVENT
DTSTART;TZID=Europe/Berlin:20201216T130000
DTEND;TZID=Europe/Berlin:20201216T160000
DTSTAMP:20260422T095713
CREATED:20191217T172019Z
LAST-MODIFIED:20201127T072310Z
UID:274-1608123600-1608134400@gdpnrw.de
SUMMARY:Mitgliederversammlung 2020
DESCRIPTION:Digitale Veranstaltung im Internet oder auch per Telefon \nEs ist uns nicht leicht gefallen\, diese Entscheidung zu treffen. Aber auch wir möchten unserer Verantwortung gerecht werden. Wer die technischen Voraussetzungen nicht hat\, bekommt die Möglichkeit sich einfach per Festnetztelefon über eine deutsche Vorwahl einzuwählen. \nWer in Besitz der Technik ist\, kann Smartphone\, Tablett oder PC nutzen. Kamera und Mikrofon müssen nicht sein. Es besteht auch die Möglichkeit schriftlich Fragen in Echtzeit zu stellen. Tipps zur Einrichtung und der Teilnahme findet ihr unter Handlungstipps Teams Besprechung Ein Teilnahme an einem CN-Pol Rechner ist nicht möglich. \nUnser neuer Landrat\, Marco Voge und unser Landesvorsitzender\, Mecky Mertens sind unter den Referenten.\nAuch für eine Möglichkeit der jährlichen Verlosung haben wir eine Möglichkeit gefunden. \nDie Teilnehmerzahl ist nicht begrenzt. Wir bitten jedoch um Anmeldung unter anmeldung@gdpmk.de bis zum 14.12.20\, 12.00 Uhr damit wir mit allen Interessierten am 14.12.20\, 16.00 Uhr eine kurzen Probelauf starten können\, um euch bei technischen Problemen hoffentlich weiter helfen zu können. Für die Anmeldung brauchen wir von euch den Namen und die E-Mail-Adresse\, an die wir die Zugangsdaten schicken sollen. \nIch hoffe auf euer Verständnis und eure Anmeldung.\nBis bald und bleibt gesund \nMichael Kaufhold
URL:https://gdpnrw.de/maerkischer-kreis/event/mitgliederversammlung-2020/
LOCATION:Internet\, digitale Versammlung
ATTACH;FMTTYPE=image/jpeg:https://gdpnrw.de/maerkischer-kreis/wp-content/uploads/sites/29/2019/12/JHV_2018-35.jpg
END:VEVENT
END:VCALENDAR