BEGIN:VCALENDAR
VERSION:2.0
PRODID:-//Kreisgruppe Märkischer Kreis - ECPv6.15.20//NONSGML v1.0//EN
CALSCALE:GREGORIAN
METHOD:PUBLISH
X-WR-CALNAME:Kreisgruppe Märkischer Kreis
X-ORIGINAL-URL:https://gdpnrw.de/maerkischer-kreis
X-WR-CALDESC:Veranstaltungen für Kreisgruppe Märkischer Kreis
REFRESH-INTERVAL;VALUE=DURATION:PT1H
X-Robots-Tag:noindex
X-PUBLISHED-TTL:PT1H
BEGIN:VTIMEZONE
TZID:Europe/Berlin
BEGIN:DAYLIGHT
TZOFFSETFROM:+0100
TZOFFSETTO:+0200
TZNAME:CEST
DTSTART:20250330T010000
END:DAYLIGHT
BEGIN:STANDARD
TZOFFSETFROM:+0200
TZOFFSETTO:+0100
TZNAME:CET
DTSTART:20251026T010000
END:STANDARD
BEGIN:DAYLIGHT
TZOFFSETFROM:+0100
TZOFFSETTO:+0200
TZNAME:CEST
DTSTART:20260329T010000
END:DAYLIGHT
BEGIN:STANDARD
TZOFFSETFROM:+0200
TZOFFSETTO:+0100
TZNAME:CET
DTSTART:20261025T010000
END:STANDARD
BEGIN:DAYLIGHT
TZOFFSETFROM:+0100
TZOFFSETTO:+0200
TZNAME:CEST
DTSTART:20270328T010000
END:DAYLIGHT
BEGIN:STANDARD
TZOFFSETFROM:+0200
TZOFFSETTO:+0100
TZNAME:CET
DTSTART:20271031T010000
END:STANDARD
END:VTIMEZONE
BEGIN:VEVENT
DTSTART;TZID=Europe/Berlin:20260318T180000
DTEND;TZID=Europe/Berlin:20260318T210000
DTSTAMP:20260422T062238
CREATED:20260123T110132Z
LAST-MODIFIED:20260123T110208Z
UID:1681-1773856800-1773867600@gdpnrw.de
SUMMARY:Pizzaessen Lüdenscheid 1_26
DESCRIPTION:Anmeldemöglichkeiten folgen
URL:https://gdpnrw.de/maerkischer-kreis/event/pizzaessen-luedenscheid-1_26/
LOCATION:Pizzeria Tutto Bene\, Bahnhofsallee 1\, Lüdenscheid\, 58507
ATTACH;FMTTYPE=image/jpeg:https://gdpnrw.de/maerkischer-kreis/wp-content/uploads/sites/29/2025/03/WhatsApp-Bild-2025-03-19-um-20.50.47_5657b4f8-e1743348240497.jpg
END:VEVENT
END:VCALENDAR