BEGIN:VCALENDAR
VERSION:2.0
PRODID:-//Kreisgruppe Märkischer Kreis - ECPv6.15.20//NONSGML v1.0//EN
CALSCALE:GREGORIAN
METHOD:PUBLISH
X-ORIGINAL-URL:https://gdpnrw.de/maerkischer-kreis
X-WR-CALDESC:Veranstaltungen für Kreisgruppe Märkischer Kreis
REFRESH-INTERVAL;VALUE=DURATION:PT1H
X-Robots-Tag:noindex
X-PUBLISHED-TTL:PT1H
BEGIN:VTIMEZONE
TZID:Europe/Berlin
BEGIN:DAYLIGHT
TZOFFSETFROM:+0100
TZOFFSETTO:+0200
TZNAME:CEST
DTSTART:20250330T010000
END:DAYLIGHT
BEGIN:STANDARD
TZOFFSETFROM:+0200
TZOFFSETTO:+0100
TZNAME:CET
DTSTART:20251026T010000
END:STANDARD
BEGIN:DAYLIGHT
TZOFFSETFROM:+0100
TZOFFSETTO:+0200
TZNAME:CEST
DTSTART:20260329T010000
END:DAYLIGHT
BEGIN:STANDARD
TZOFFSETFROM:+0200
TZOFFSETTO:+0100
TZNAME:CET
DTSTART:20261025T010000
END:STANDARD
BEGIN:DAYLIGHT
TZOFFSETFROM:+0100
TZOFFSETTO:+0200
TZNAME:CEST
DTSTART:20270328T010000
END:DAYLIGHT
BEGIN:STANDARD
TZOFFSETFROM:+0200
TZOFFSETTO:+0100
TZNAME:CET
DTSTART:20271031T010000
END:STANDARD
END:VTIMEZONE
BEGIN:VEVENT
DTSTART;TZID=Europe/Berlin:20260501T110000
DTEND;TZID=Europe/Berlin:20260501T150000
DTSTAMP:20260422T032944
CREATED:20260206T125813Z
LAST-MODIFIED:20260319T062240Z
UID:1700-1777633200-1777647600@gdpnrw.de
SUMMARY:Maikundgebung
DESCRIPTION:Wir sind wie immer mit einem Stand vertreten und freuen uns über euren Besuch mit der ganzen Familie. Details und Attraktionen:
URL:https://gdpnrw.de/maerkischer-kreis/event/maikundgebung/
LOCATION:Sternplatz Lüdenscheid\, Sternplatz 1\, Lüdenscheid\, 58507\, Germany
ATTACH;FMTTYPE=image/jpeg:https://gdpnrw.de/maerkischer-kreis/wp-content/uploads/sites/29/2025/04/20240501_115650-scaled.jpg
END:VEVENT
END:VCALENDAR