BEGIN:VCALENDAR
VERSION:2.0
PRODID:-//Kreisgruppe Märkischer Kreis - ECPv6.15.20//NONSGML v1.0//EN
CALSCALE:GREGORIAN
METHOD:PUBLISH
X-ORIGINAL-URL:https://gdpnrw.de/maerkischer-kreis
X-WR-CALDESC:Veranstaltungen für Kreisgruppe Märkischer Kreis
REFRESH-INTERVAL;VALUE=DURATION:PT1H
X-Robots-Tag:noindex
X-PUBLISHED-TTL:PT1H
BEGIN:VTIMEZONE
TZID:Europe/Berlin
BEGIN:DAYLIGHT
TZOFFSETFROM:+0100
TZOFFSETTO:+0200
TZNAME:CEST
DTSTART:20250330T010000
END:DAYLIGHT
BEGIN:STANDARD
TZOFFSETFROM:+0200
TZOFFSETTO:+0100
TZNAME:CET
DTSTART:20251026T010000
END:STANDARD
BEGIN:DAYLIGHT
TZOFFSETFROM:+0100
TZOFFSETTO:+0200
TZNAME:CEST
DTSTART:20260329T010000
END:DAYLIGHT
BEGIN:STANDARD
TZOFFSETFROM:+0200
TZOFFSETTO:+0100
TZNAME:CET
DTSTART:20261025T010000
END:STANDARD
BEGIN:DAYLIGHT
TZOFFSETFROM:+0100
TZOFFSETTO:+0200
TZNAME:CEST
DTSTART:20270328T010000
END:DAYLIGHT
BEGIN:STANDARD
TZOFFSETFROM:+0200
TZOFFSETTO:+0100
TZNAME:CET
DTSTART:20271031T010000
END:STANDARD
END:VTIMEZONE
BEGIN:VEVENT
DTSTART;TZID=Europe/Berlin:20260415T180000
DTEND;TZID=Europe/Berlin:20260415T210000
DTSTAMP:20260422T092416
CREATED:20260206T125342Z
LAST-MODIFIED:20260227T105639Z
UID:1695-1776276000-1776286800@gdpnrw.de
SUMMARY:Kinoabend\, „Die mutigen 56 – Deutschlands längster Streik“
DESCRIPTION:Liebe Kolleginnen und Kollegen\, \nzur Einstimmung auf den Tag der Arbeit laden wir wieder ein zum Gewerkschaftskino: \nMittwoch\, 15. April um 18:00 Uhr (Einlass 17:30 Uhr) \n„Die mutigen 56 – Deutschlands längster Streik“ \nIm Filmpalast Lüdenscheid\, Werdohler Str. 68b \nDer Eintritt ist frei. \nWir bitten um Anmeldung an hagen@dgb.de bis zum 2. April.
URL:https://gdpnrw.de/maerkischer-kreis/event/kinoabend-die-mutigen-56-deutschlands-laengster-streik/
LOCATION:Filmpalast Lüdenscheid\, Werdohler Str. 68B\, Lüdenscheid\, NRW\, 58511
ATTACH;FMTTYPE=image/jpeg:https://gdpnrw.de/maerkischer-kreis/wp-content/uploads/sites/29/2026/02/Gewerkschaftkino-Luedenscheid-15.04.2026-.jpg
END:VEVENT
END:VCALENDAR