BEGIN:VCALENDAR
VERSION:2.0
PRODID:-//Kreisgruppe Kleve - ECPv6.15.17.1//NONSGML v1.0//EN
CALSCALE:GREGORIAN
METHOD:PUBLISH
X-WR-CALNAME:Kreisgruppe Kleve
X-ORIGINAL-URL:https://gdpnrw.de/kleve
X-WR-CALDESC:Veranstaltungen für Kreisgruppe Kleve
REFRESH-INTERVAL;VALUE=DURATION:PT1H
X-Robots-Tag:noindex
X-PUBLISHED-TTL:PT1H
BEGIN:VTIMEZONE
TZID:Europe/Berlin
BEGIN:DAYLIGHT
TZOFFSETFROM:+0100
TZOFFSETTO:+0200
TZNAME:CEST
DTSTART:20240331T010000
END:DAYLIGHT
BEGIN:STANDARD
TZOFFSETFROM:+0200
TZOFFSETTO:+0100
TZNAME:CET
DTSTART:20241027T010000
END:STANDARD
BEGIN:DAYLIGHT
TZOFFSETFROM:+0100
TZOFFSETTO:+0200
TZNAME:CEST
DTSTART:20250330T010000
END:DAYLIGHT
BEGIN:STANDARD
TZOFFSETFROM:+0200
TZOFFSETTO:+0100
TZNAME:CET
DTSTART:20251026T010000
END:STANDARD
BEGIN:DAYLIGHT
TZOFFSETFROM:+0100
TZOFFSETTO:+0200
TZNAME:CEST
DTSTART:20260329T010000
END:DAYLIGHT
BEGIN:STANDARD
TZOFFSETFROM:+0200
TZOFFSETTO:+0100
TZNAME:CET
DTSTART:20261025T010000
END:STANDARD
END:VTIMEZONE
BEGIN:VEVENT
DTSTART;TZID=Europe/Berlin:20250123T150000
DTEND;TZID=Europe/Berlin:20250123T180000
DTSTAMP:20260421T072126
CREATED:20250102T145512Z
LAST-MODIFIED:20250102T145708Z
UID:10000040-1737644400-1737655200@gdpnrw.de
SUMMARY:Neujahrskaffee 2025
DESCRIPTION:Ort: Hotel Litjes\, Goch \nam Donnerstag\, den 23. Januar 2025\, ab 15 Uhr \nZum Thema „Sicher vorsorgen im Alter“ informiert Ralf Dünzer von der GdP. \nAnmeldung bitte bis zum 15.01. an: \n\nCharly Bauhaus – 01 51 / 51 76 25 94\nPeter Baumgarten – 01 73 / 5 30 86 27\nkleve@gdp-nrw.de\n\n  \n 
URL:https://gdpnrw.de/kleve/event/neujahrskaffee-2025/
LOCATION:Hotel Litjes\, Pfalzdorfer Straße 2\, Goch\, 47574\, Deutschland
ATTACH;FMTTYPE=image/jpeg:https://gdpnrw.de/kleve/wp-content/uploads/sites/24/2025/01/EinladungNJKaffe2025.jpg
END:VEVENT
BEGIN:VEVENT
DTSTART;VALUE=DATE:20250128
DTEND;VALUE=DATE:20250129
DTSTAMP:20260421T072126
CREATED:20241010T062828Z
LAST-MODIFIED:20241010T062828Z
UID:10000030-1738022400-1738108799@gdpnrw.de
SUMMARY:Gesamtvorstandssitzung 2025 der KG Kleve
DESCRIPTION:
URL:https://gdpnrw.de/kleve/event/gesamtvorstandssitzung-2025-der-kg-kleve/
END:VEVENT
END:VCALENDAR