BEGIN:VCALENDAR
VERSION:2.0
PRODID:-//Kreisgruppe Hamm - ECPv6.15.20//NONSGML v1.0//EN
CALSCALE:GREGORIAN
METHOD:PUBLISH
X-WR-CALNAME:Kreisgruppe Hamm
X-ORIGINAL-URL:https://gdpnrw.de/hamm
X-WR-CALDESC:Veranstaltungen für Kreisgruppe Hamm
REFRESH-INTERVAL;VALUE=DURATION:PT1H
X-Robots-Tag:noindex
X-PUBLISHED-TTL:PT1H
BEGIN:VTIMEZONE
TZID:Europe/Berlin
BEGIN:DAYLIGHT
TZOFFSETFROM:+0100
TZOFFSETTO:+0200
TZNAME:CEST
DTSTART:20230326T010000
END:DAYLIGHT
BEGIN:STANDARD
TZOFFSETFROM:+0200
TZOFFSETTO:+0100
TZNAME:CET
DTSTART:20231029T010000
END:STANDARD
BEGIN:DAYLIGHT
TZOFFSETFROM:+0100
TZOFFSETTO:+0200
TZNAME:CEST
DTSTART:20240331T010000
END:DAYLIGHT
BEGIN:STANDARD
TZOFFSETFROM:+0200
TZOFFSETTO:+0100
TZNAME:CET
DTSTART:20241027T010000
END:STANDARD
BEGIN:DAYLIGHT
TZOFFSETFROM:+0100
TZOFFSETTO:+0200
TZNAME:CEST
DTSTART:20250330T010000
END:DAYLIGHT
BEGIN:STANDARD
TZOFFSETFROM:+0200
TZOFFSETTO:+0100
TZNAME:CET
DTSTART:20251026T010000
END:STANDARD
END:VTIMEZONE
BEGIN:VEVENT
DTSTART;TZID=Europe/Berlin:20240411T190000
DTEND;TZID=Europe/Berlin:20240411T190000
DTSTAMP:20260424T013647
CREATED:20240221T160127Z
LAST-MODIFIED:20240221T160127Z
UID:404-1712862000-1712862000@gdpnrw.de
SUMMARY:Best of Krimi Cops am 11. April im Heinrich-von-Kleist-Forum in Hamm
DESCRIPTION:
URL:https://gdpnrw.de/hamm/event/best-of-krimi-cops-am-11-april-im-heinrich-von-kleist-forum-in-hamm/
END:VEVENT
END:VCALENDAR