BEGIN:VCALENDAR
VERSION:2.0
PRODID:-//Kreisgruppe Hamm - ECPv6.15.20//NONSGML v1.0//EN
CALSCALE:GREGORIAN
METHOD:PUBLISH
X-ORIGINAL-URL:https://gdpnrw.de/hamm
X-WR-CALDESC:Veranstaltungen für Kreisgruppe Hamm
REFRESH-INTERVAL;VALUE=DURATION:PT1H
X-Robots-Tag:noindex
X-PUBLISHED-TTL:PT1H
BEGIN:VTIMEZONE
TZID:Europe/Berlin
BEGIN:DAYLIGHT
TZOFFSETFROM:+0100
TZOFFSETTO:+0200
TZNAME:CEST
DTSTART:20210328T010000
END:DAYLIGHT
BEGIN:STANDARD
TZOFFSETFROM:+0200
TZOFFSETTO:+0100
TZNAME:CET
DTSTART:20211031T010000
END:STANDARD
BEGIN:DAYLIGHT
TZOFFSETFROM:+0100
TZOFFSETTO:+0200
TZNAME:CEST
DTSTART:20220327T010000
END:DAYLIGHT
BEGIN:STANDARD
TZOFFSETFROM:+0200
TZOFFSETTO:+0100
TZNAME:CET
DTSTART:20221030T010000
END:STANDARD
BEGIN:DAYLIGHT
TZOFFSETFROM:+0100
TZOFFSETTO:+0200
TZNAME:CEST
DTSTART:20230326T010000
END:DAYLIGHT
BEGIN:STANDARD
TZOFFSETFROM:+0200
TZOFFSETTO:+0100
TZNAME:CET
DTSTART:20231029T010000
END:STANDARD
END:VTIMEZONE
BEGIN:VEVENT
DTSTART;TZID=Europe/Berlin:20221014T140000
DTEND;TZID=Europe/Berlin:20221014T170000
DTSTAMP:20260425T033909
CREATED:20220909T053734Z
LAST-MODIFIED:20220909T061120Z
UID:190-1665756000-1665766800@gdpnrw.de
SUMMARY:Besuch der Hohenfelder Brauerei
DESCRIPTION:
URL:https://gdpnrw.de/hamm/event/besuch-der-hohenfelder-brauerei/
ATTACH;FMTTYPE=image/jpeg:https://gdpnrw.de/hamm/wp-content/uploads/sites/22/2022/09/Hohenfelder.jpg
END:VEVENT
END:VCALENDAR