BEGIN:VCALENDAR
VERSION:2.0
PRODID:-//Kreisgruppe Hamm - ECPv6.15.20//NONSGML v1.0//EN
CALSCALE:GREGORIAN
METHOD:PUBLISH
X-WR-CALNAME:Kreisgruppe Hamm
X-ORIGINAL-URL:https://gdpnrw.de/hamm
X-WR-CALDESC:Veranstaltungen für Kreisgruppe Hamm
REFRESH-INTERVAL;VALUE=DURATION:PT1H
X-Robots-Tag:noindex
X-PUBLISHED-TTL:PT1H
BEGIN:VTIMEZONE
TZID:Europe/Berlin
BEGIN:DAYLIGHT
TZOFFSETFROM:+0100
TZOFFSETTO:+0200
TZNAME:CEST
DTSTART:20210328T010000
END:DAYLIGHT
BEGIN:STANDARD
TZOFFSETFROM:+0200
TZOFFSETTO:+0100
TZNAME:CET
DTSTART:20211031T010000
END:STANDARD
BEGIN:DAYLIGHT
TZOFFSETFROM:+0100
TZOFFSETTO:+0200
TZNAME:CEST
DTSTART:20220327T010000
END:DAYLIGHT
BEGIN:STANDARD
TZOFFSETFROM:+0200
TZOFFSETTO:+0100
TZNAME:CET
DTSTART:20221030T010000
END:STANDARD
BEGIN:DAYLIGHT
TZOFFSETFROM:+0100
TZOFFSETTO:+0200
TZNAME:CEST
DTSTART:20230326T010000
END:DAYLIGHT
BEGIN:STANDARD
TZOFFSETFROM:+0200
TZOFFSETTO:+0100
TZNAME:CET
DTSTART:20231029T010000
END:STANDARD
END:VTIMEZONE
BEGIN:VEVENT
DTSTART;TZID=Europe/Berlin:20221103T144500
DTEND;TZID=Europe/Berlin:20221103T174500
DTSTAMP:20260425T032808
CREATED:20220923T063453Z
LAST-MODIFIED:20220923T063453Z
UID:262-1667486700-1667497500@gdpnrw.de
SUMMARY:Besuch des nordrhein-westfälischen Landtags
DESCRIPTION:Auf Einladung des Hammer Landtagsabgeordneten\, Justus Moor (SPD)\, erhält unsere Kreisgruppe die Gelegenheit am Donnerstag\, den 03. November 2022\, mit max. 50 Teilnehmerinnen und Teilnehmern den nordrhein-westfälischen Landtag zu besichtigen. Die An-/ Abreise erfolgt mit dem ICE ab Hbf. Hamm! Da es sich um einen so genannten Plenartag handelt\, können wir den Debatten der Landtagsabgeordneten von der Tribüne aus zuhören. Im Anschluss an den offiziellen Teil ist es angedacht\, die geführten Debatten in der Düsseldorfer Altstadt zu vertiefen. \nTeilnahmekosten: 10€/Person \n  \nAnmeldungen ab sofort unter: 0176/56781280
URL:https://gdpnrw.de/hamm/event/besuch-des-nordrhein-westfaelischen-landtags/
ATTACH;FMTTYPE=image/jpeg:https://gdpnrw.de/hamm/wp-content/uploads/sites/22/2022/09/Landtag.jpg
END:VEVENT
END:VCALENDAR