BEGIN:VCALENDAR
VERSION:2.0
PRODID:-//Kreisgruppe Gütersloh - ECPv6.15.20//NONSGML v1.0//EN
CALSCALE:GREGORIAN
METHOD:PUBLISH
X-WR-CALNAME:Kreisgruppe Gütersloh
X-ORIGINAL-URL:https://gdpnrw.de/guetersloh
X-WR-CALDESC:Veranstaltungen für Kreisgruppe Gütersloh
REFRESH-INTERVAL;VALUE=DURATION:PT1H
X-Robots-Tag:noindex
X-PUBLISHED-TTL:PT1H
BEGIN:VTIMEZONE
TZID:Europe/Berlin
BEGIN:DAYLIGHT
TZOFFSETFROM:+0100
TZOFFSETTO:+0200
TZNAME:CEST
DTSTART:20190331T010000
END:DAYLIGHT
BEGIN:STANDARD
TZOFFSETFROM:+0200
TZOFFSETTO:+0100
TZNAME:CET
DTSTART:20191027T010000
END:STANDARD
BEGIN:DAYLIGHT
TZOFFSETFROM:+0100
TZOFFSETTO:+0200
TZNAME:CEST
DTSTART:20200329T010000
END:DAYLIGHT
BEGIN:STANDARD
TZOFFSETFROM:+0200
TZOFFSETTO:+0100
TZNAME:CET
DTSTART:20201025T010000
END:STANDARD
BEGIN:DAYLIGHT
TZOFFSETFROM:+0100
TZOFFSETTO:+0200
TZNAME:CEST
DTSTART:20210328T010000
END:DAYLIGHT
BEGIN:STANDARD
TZOFFSETFROM:+0200
TZOFFSETTO:+0100
TZNAME:CET
DTSTART:20211031T010000
END:STANDARD
END:VTIMEZONE
BEGIN:VEVENT
DTSTART;TZID=Europe/Berlin:20200313T093000
DTEND;TZID=Europe/Berlin:20200313T153000
DTSTAMP:20260426T060246
CREATED:20200222T134307Z
LAST-MODIFIED:20200222T134307Z
UID:149-1584091800-1584113400@gdpnrw.de
SUMMARY:Bezirksverbandskonferenz
DESCRIPTION:Einladung zur Bezirksverbandskonferenz am 13.03.2020\n  \nLiebe Mitglieder des Bezirksverbandes Detmold\, \n  \nzum Auftakt des Personalratswahlkampfs laden wir zur Bezirksverbandskonferenz ein: \nFreitag\, 13.03.2020\, 09:30 Uhr \nWestphalenhof Paderborn\nLuise Hensel Saal\nGiersstraße 1\n33098 Paderborn \nBis zum Beginn wird ein kleiner Imbiss in Form eines Finger Food Frühstücks gereicht. \nFolgende Tagesordnung ist vorgesehen: \n  \n\n\n\n1.\nBegrüßung/ Eröffnung durch den BV Vorsitzenden\nMichael Schröter\n\n\n2.\nVortrag zu den aktuellen Themen des PHPR vom  Spitzenkandidaten für die Beamtinnen und Beamten\nMarkus Robert\n\n\n3.\nVortrag zu den aktuellen Themen des PHPR von der  Spitzenkandidatin für die Arbeitnehmerinnen und Arbeitnehmer\nJutta Jacobs\n\n\n4.\nVorstellung des Wahlkampfkonzeptes der GdP NRW\nMichael Maatz\n\n\n5.\nGewerkschaftlicher Situationsbericht\nHeiko Müller\n\n\n \nMittagspause\n \n\n\n6.\nVortrag des Vertreters der BB Bank\nHerr Teschner\n\n\n7.\nPräsentation der GdP- Service GmbH\nLorenz Rojahn\n\n\n8.\nVerschiedenes auf etwaigen Antrag \n \n \n\n\n9.\nSchlusswort / Verabschiedung\nPatrick Schlüter\n\n\n\n  \nAnträge zur Änderung der Tagesordnung nimmt der Bezirksverbandsvorstand gerne an. \nAls Parkmöglichkeiten empfiehlt sich der Domplatz\, das Parkhaus des St. Vincenz Krankenhauses (Am Busdorf 2)\, das Parkhaus der Liborigalerie und am kostengünstigsten der Parkplatz am Maspernplatz.
URL:https://gdpnrw.de/guetersloh/event/bezirksverbandskonferenz/
LOCATION:Westphalenhof Paderborn\, Giersstraße 1\, Paderborn\, 33098\, Deutschland
END:VEVENT
END:VCALENDAR