BEGIN:VCALENDAR
VERSION:2.0
PRODID:-//Kreisgruppe Duisburg - ECPv6.15.17.1//NONSGML v1.0//EN
CALSCALE:GREGORIAN
METHOD:PUBLISH
X-ORIGINAL-URL:https://gdpnrw.de/duisburg
X-WR-CALDESC:Veranstaltungen für Kreisgruppe Duisburg
REFRESH-INTERVAL;VALUE=DURATION:PT1H
X-Robots-Tag:noindex
X-PUBLISHED-TTL:PT1H
BEGIN:VTIMEZONE
TZID:Europe/Berlin
BEGIN:DAYLIGHT
TZOFFSETFROM:+0100
TZOFFSETTO:+0200
TZNAME:CEST
DTSTART:20290325T010000
END:DAYLIGHT
BEGIN:STANDARD
TZOFFSETFROM:+0200
TZOFFSETTO:+0100
TZNAME:CET
DTSTART:20291028T010000
END:STANDARD
BEGIN:DAYLIGHT
TZOFFSETFROM:+0100
TZOFFSETTO:+0200
TZNAME:CEST
DTSTART:20300331T010000
END:DAYLIGHT
BEGIN:STANDARD
TZOFFSETFROM:+0200
TZOFFSETTO:+0100
TZNAME:CET
DTSTART:20301027T010000
END:STANDARD
BEGIN:DAYLIGHT
TZOFFSETFROM:+0100
TZOFFSETTO:+0200
TZNAME:CEST
DTSTART:20310330T010000
END:DAYLIGHT
BEGIN:STANDARD
TZOFFSETFROM:+0200
TZOFFSETTO:+0100
TZNAME:CET
DTSTART:20311026T010000
END:STANDARD
END:VTIMEZONE
BEGIN:VEVENT
DTSTART;VALUE=DATE:20300703
DTEND;VALUE=DATE:20300704
DTSTAMP:20260421T103522
CREATED:20240103T165748Z
LAST-MODIFIED:20251106T115816Z
UID:10000767-1909267200-1909353599@gdpnrw.de
SUMMARY:Vorstandssitzung
DESCRIPTION:Die Sitzungen des Vorstands finden am ersten Mittwoch des ersten und dritten Monats im Quartal statt.\n(Jan. – Mär. – Apr. – Jun. – Jul. – Sep. – Okt. – Dez.)
URL:https://gdpnrw.de/duisburg/event/vorstandssitzung-2-2/2030-07-03/
LOCATION:GdP-Büro\, Düsseldorfer Straße 161\, Duisburg\, 47053
END:VEVENT
BEGIN:VEVENT
DTSTART;VALUE=DATE:20300807
DTEND;VALUE=DATE:20300808
DTSTAMP:20260421T103522
CREATED:20240103T165748Z
LAST-MODIFIED:20251106T115816Z
UID:10000768-1912291200-1912377599@gdpnrw.de
SUMMARY:Vorstandssitzung
DESCRIPTION:Die Sitzungen des Vorstands finden am ersten Mittwoch des ersten und dritten Monats im Quartal statt.\n(Jan. – Mär. – Apr. – Jun. – Jul. – Sep. – Okt. – Dez.)
URL:https://gdpnrw.de/duisburg/event/vorstandssitzung-2-2/2030-08-07/
LOCATION:GdP-Büro\, Düsseldorfer Straße 161\, Duisburg\, 47053
END:VEVENT
BEGIN:VEVENT
DTSTART;VALUE=DATE:20300904
DTEND;VALUE=DATE:20300905
DTSTAMP:20260421T103522
CREATED:20240103T165748Z
LAST-MODIFIED:20251106T115816Z
UID:10000769-1914710400-1914796799@gdpnrw.de
SUMMARY:Vorstandssitzung
DESCRIPTION:Die Sitzungen des Vorstands finden am ersten Mittwoch des ersten und dritten Monats im Quartal statt.\n(Jan. – Mär. – Apr. – Jun. – Jul. – Sep. – Okt. – Dez.)
URL:https://gdpnrw.de/duisburg/event/vorstandssitzung-2-2/2030-09-04/
LOCATION:GdP-Büro\, Düsseldorfer Straße 161\, Duisburg\, 47053
END:VEVENT
BEGIN:VEVENT
DTSTART;VALUE=DATE:20301002
DTEND;VALUE=DATE:20301003
DTSTAMP:20260421T103522
CREATED:20240103T165748Z
LAST-MODIFIED:20251106T115816Z
UID:10000770-1917129600-1917215999@gdpnrw.de
SUMMARY:Vorstandssitzung
DESCRIPTION:Die Sitzungen des Vorstands finden am ersten Mittwoch des ersten und dritten Monats im Quartal statt.\n(Jan. – Mär. – Apr. – Jun. – Jul. – Sep. – Okt. – Dez.)
URL:https://gdpnrw.de/duisburg/event/vorstandssitzung-2-2/2030-10-02/
LOCATION:GdP-Büro\, Düsseldorfer Straße 161\, Duisburg\, 47053
END:VEVENT
BEGIN:VEVENT
DTSTART;VALUE=DATE:20301106
DTEND;VALUE=DATE:20301107
DTSTAMP:20260421T103522
CREATED:20240103T165748Z
LAST-MODIFIED:20251106T115816Z
UID:10000771-1920153600-1920239999@gdpnrw.de
SUMMARY:Vorstandssitzung
DESCRIPTION:Die Sitzungen des Vorstands finden am ersten Mittwoch des ersten und dritten Monats im Quartal statt.\n(Jan. – Mär. – Apr. – Jun. – Jul. – Sep. – Okt. – Dez.)
URL:https://gdpnrw.de/duisburg/event/vorstandssitzung-2-2/2030-11-06/
LOCATION:GdP-Büro\, Düsseldorfer Straße 161\, Duisburg\, 47053
END:VEVENT
END:VCALENDAR