BEGIN:VCALENDAR
VERSION:2.0
PRODID:-//Kreisgruppe Duisburg - ECPv6.15.17.1//NONSGML v1.0//EN
CALSCALE:GREGORIAN
METHOD:PUBLISH
X-WR-CALNAME:Kreisgruppe Duisburg
X-ORIGINAL-URL:https://gdpnrw.de/duisburg
X-WR-CALDESC:Veranstaltungen für Kreisgruppe Duisburg
REFRESH-INTERVAL;VALUE=DURATION:PT1H
X-Robots-Tag:noindex
X-PUBLISHED-TTL:PT1H
BEGIN:VTIMEZONE
TZID:Europe/Berlin
BEGIN:DAYLIGHT
TZOFFSETFROM:+0100
TZOFFSETTO:+0200
TZNAME:CEST
DTSTART:20230326T010000
END:DAYLIGHT
BEGIN:STANDARD
TZOFFSETFROM:+0200
TZOFFSETTO:+0100
TZNAME:CET
DTSTART:20231029T010000
END:STANDARD
BEGIN:DAYLIGHT
TZOFFSETFROM:+0100
TZOFFSETTO:+0200
TZNAME:CEST
DTSTART:20240331T010000
END:DAYLIGHT
BEGIN:STANDARD
TZOFFSETFROM:+0200
TZOFFSETTO:+0100
TZNAME:CET
DTSTART:20241027T010000
END:STANDARD
BEGIN:DAYLIGHT
TZOFFSETFROM:+0100
TZOFFSETTO:+0200
TZNAME:CEST
DTSTART:20250330T010000
END:DAYLIGHT
BEGIN:STANDARD
TZOFFSETFROM:+0200
TZOFFSETTO:+0100
TZNAME:CET
DTSTART:20251026T010000
END:STANDARD
END:VTIMEZONE
BEGIN:VEVENT
DTSTART;TZID=Europe/Berlin:20240604T150000
DTEND;TZID=Europe/Berlin:20240604T190000
DTSTAMP:20260421T161841
CREATED:20231223T224021Z
LAST-MODIFIED:20250131T170424Z
UID:10000129-1717513200-1717527600@gdpnrw.de
SUMMARY:Stammtisch Seniorengruppe
DESCRIPTION:Der Stammtisch der Seniorengruppe findet ab 2024 in den geraden Monaten jeweils am ersten Dienstag um 15:00 Uhr statt.\n(Feb. – Apr. – Jun. – Aug. – Okt. – Dez.)
URL:https://gdpnrw.de/duisburg/event/seniorenstammtisch-3/2024-06-04/
LOCATION:Hotel-Restaurant Haus Garden\, Friedrich-Ebert-Straße 131–133\, Duisburg\, 47179
CATEGORIES:Treffen
END:VEVENT
BEGIN:VEVENT
DTSTART;TZID=Europe/Berlin:20240402T150000
DTEND;TZID=Europe/Berlin:20240402T190000
DTSTAMP:20260421T161841
CREATED:20231223T224021Z
LAST-MODIFIED:20250131T170424Z
UID:10000128-1712070000-1712084400@gdpnrw.de
SUMMARY:Stammtisch Seniorengruppe
DESCRIPTION:Der Stammtisch der Seniorengruppe findet ab 2024 in den geraden Monaten jeweils am ersten Dienstag um 15:00 Uhr statt.\n(Feb. – Apr. – Jun. – Aug. – Okt. – Dez.)
URL:https://gdpnrw.de/duisburg/event/seniorenstammtisch-3/2024-04-02/
LOCATION:Hotel-Restaurant Haus Garden\, Friedrich-Ebert-Straße 131–133\, Duisburg\, 47179
CATEGORIES:Treffen
END:VEVENT
BEGIN:VEVENT
DTSTART;TZID=Europe/Berlin:20240206T150000
DTEND;TZID=Europe/Berlin:20240206T190000
DTSTAMP:20260421T161841
CREATED:20231223T224021Z
LAST-MODIFIED:20250131T170424Z
UID:10000116-1707231600-1707246000@gdpnrw.de
SUMMARY:Stammtisch Seniorengruppe
DESCRIPTION:Der Stammtisch der Seniorengruppe findet ab 2024 in den geraden Monaten jeweils am ersten Dienstag um 15:00 Uhr statt.\n(Feb. – Apr. – Jun. – Aug. – Okt. – Dez.)
URL:https://gdpnrw.de/duisburg/event/seniorenstammtisch-3/2024-02-06/
LOCATION:Hotel-Restaurant Haus Garden\, Friedrich-Ebert-Straße 131–133\, Duisburg\, 47179
CATEGORIES:Treffen
END:VEVENT
END:VCALENDAR