BEGIN:VCALENDAR
VERSION:2.0
PRODID:-//Kreisgruppe Duisburg - ECPv6.15.20//NONSGML v1.0//EN
CALSCALE:GREGORIAN
METHOD:PUBLISH
X-ORIGINAL-URL:https://gdpnrw.de/duisburg
X-WR-CALDESC:Veranstaltungen für Kreisgruppe Duisburg
REFRESH-INTERVAL;VALUE=DURATION:PT1H
X-Robots-Tag:noindex
X-PUBLISHED-TTL:PT1H
BEGIN:VTIMEZONE
TZID:Europe/Berlin
BEGIN:DAYLIGHT
TZOFFSETFROM:+0100
TZOFFSETTO:+0200
TZNAME:CEST
DTSTART:20280326T010000
END:DAYLIGHT
BEGIN:STANDARD
TZOFFSETFROM:+0200
TZOFFSETTO:+0100
TZNAME:CET
DTSTART:20281029T010000
END:STANDARD
BEGIN:DAYLIGHT
TZOFFSETFROM:+0100
TZOFFSETTO:+0200
TZNAME:CEST
DTSTART:20290325T010000
END:DAYLIGHT
BEGIN:STANDARD
TZOFFSETFROM:+0200
TZOFFSETTO:+0100
TZNAME:CET
DTSTART:20291028T010000
END:STANDARD
BEGIN:DAYLIGHT
TZOFFSETFROM:+0100
TZOFFSETTO:+0200
TZNAME:CEST
DTSTART:20300331T010000
END:DAYLIGHT
BEGIN:STANDARD
TZOFFSETFROM:+0200
TZOFFSETTO:+0100
TZNAME:CET
DTSTART:20301027T010000
END:STANDARD
BEGIN:DAYLIGHT
TZOFFSETFROM:+0100
TZOFFSETTO:+0200
TZNAME:CEST
DTSTART:20310330T010000
END:DAYLIGHT
BEGIN:STANDARD
TZOFFSETFROM:+0200
TZOFFSETTO:+0100
TZNAME:CET
DTSTART:20311026T010000
END:STANDARD
END:VTIMEZONE
BEGIN:VEVENT
DTSTART;VALUE=DATE:20290307
DTEND;VALUE=DATE:20290308
DTSTAMP:20260421T222834
CREATED:20240103T165748Z
LAST-MODIFIED:20251106T115816Z
UID:10000751-1867536000-1867622399@gdpnrw.de
SUMMARY:Vorstandssitzung
DESCRIPTION:Die Sitzungen des Vorstands finden am ersten Mittwoch des ersten und dritten Monats im Quartal statt.\n(Jan. – Mär. – Apr. – Jun. – Jul. – Sep. – Okt. – Dez.)
URL:https://gdpnrw.de/duisburg/event/vorstandssitzung-2-2/2029-03-07/
LOCATION:GdP-Büro\, Düsseldorfer Straße 161\, Duisburg\, 47053
END:VEVENT
BEGIN:VEVENT
DTSTART;TZID=Europe/Berlin:20290403T150000
DTEND;TZID=Europe/Berlin:20290403T190000
DTSTAMP:20260421T222834
CREATED:20250131T170642Z
LAST-MODIFIED:20250131T170824Z
UID:10000441-1869922800-1869937200@gdpnrw.de
SUMMARY:Stammtisch Seniorengruppe
DESCRIPTION:Der Stammtisch der Seniorengruppe findet ab 2024 in den geraden Monaten jeweils am ersten Dienstag um 15:00 Uhr statt.\n(Feb. – Apr. – Jun. – Aug. – Okt. – Dez.)
URL:https://gdpnrw.de/duisburg/event/seniorenstammtisch-3-2/2029-04-03/
LOCATION:Hotel-Restaurant Haus Garden\, Friedrich-Ebert-Straße 131–133\, Duisburg\, 47179
CATEGORIES:Gemeinschaftspflege
END:VEVENT
BEGIN:VEVENT
DTSTART;TZID=Europe/Berlin:20290403T160000
DTEND;TZID=Europe/Berlin:20290403T200000
DTSTAMP:20260421T222834
CREATED:20240301T131333Z
LAST-MODIFIED:20250806T144839Z
UID:10000694-1869926400-1869940800@gdpnrw.de
SUMMARY:Stammtisch JUNGE GRUPPE
DESCRIPTION:Die JUNGE GRUPPE veranstaltet jeden ersten Dienstag im Monat ab 16:00 Uhr ihren Stammtisch im Jugendraum im Untergeschoß des DGB Hauses. \nThemenschwerpunkte bei den Sitzungen sind: \n\naktuelle gewerkschaftliche Themen\naktuelle Themen im PP Duisburg\nVernetzung und Austausch der GdP Mitglieder\nProbleme im Studium an der HSPV\nAusstattung innerhalb der Polizei (Uniform / FuE / etc.)\nVereinbarkeit von Familie und Beruf\n\nund vieles mehr. \nEbenso können Probleme im Studium und im Beruf bei den Sitzungen angesprochen werden und Lösungen erarbeitet werden. \nDie Sitzungen sind für alle Mitglieder der GdP offen.\nWünschenswert ist\, dass die Teilnehmer und Teilnehmerinnen unter 32 Jahre alt sind oder noch im Studium. \nDie Getränke bei den Treffen übernimmt die GdP. \nWir freuen uns dich kennenzulernen!!! \nWenn du noch weitere Infos haben möchtest dann schreib uns eine Mail an junge-gruppe[@]gdp-duisburg.de oder ruf uns an 0203 280 1082
URL:https://gdpnrw.de/duisburg/event/stammtisch-junge-gruppe-3/2029-04-03/
LOCATION:DGB Haus\, Stapeltor 17 - 19\, Duisburg\, 47051
CATEGORIES:Gemeinschaftspflege
END:VEVENT
BEGIN:VEVENT
DTSTART;VALUE=DATE:20290404
DTEND;VALUE=DATE:20290405
DTSTAMP:20260421T222834
CREATED:20240103T165748Z
LAST-MODIFIED:20251106T115816Z
UID:10000752-1869955200-1870041599@gdpnrw.de
SUMMARY:Vorstandssitzung
DESCRIPTION:Die Sitzungen des Vorstands finden am ersten Mittwoch des ersten und dritten Monats im Quartal statt.\n(Jan. – Mär. – Apr. – Jun. – Jul. – Sep. – Okt. – Dez.)
URL:https://gdpnrw.de/duisburg/event/vorstandssitzung-2-2/2029-04-04/
LOCATION:GdP-Büro\, Düsseldorfer Straße 161\, Duisburg\, 47053
END:VEVENT
BEGIN:VEVENT
DTSTART;TZID=Europe/Berlin:20290501T160000
DTEND;TZID=Europe/Berlin:20290501T200000
DTSTAMP:20260421T222834
CREATED:20240301T131333Z
LAST-MODIFIED:20250806T144839Z
UID:10000695-1872345600-1872360000@gdpnrw.de
SUMMARY:Stammtisch JUNGE GRUPPE
DESCRIPTION:Die JUNGE GRUPPE veranstaltet jeden ersten Dienstag im Monat ab 16:00 Uhr ihren Stammtisch im Jugendraum im Untergeschoß des DGB Hauses. \nThemenschwerpunkte bei den Sitzungen sind: \n\naktuelle gewerkschaftliche Themen\naktuelle Themen im PP Duisburg\nVernetzung und Austausch der GdP Mitglieder\nProbleme im Studium an der HSPV\nAusstattung innerhalb der Polizei (Uniform / FuE / etc.)\nVereinbarkeit von Familie und Beruf\n\nund vieles mehr. \nEbenso können Probleme im Studium und im Beruf bei den Sitzungen angesprochen werden und Lösungen erarbeitet werden. \nDie Sitzungen sind für alle Mitglieder der GdP offen.\nWünschenswert ist\, dass die Teilnehmer und Teilnehmerinnen unter 32 Jahre alt sind oder noch im Studium. \nDie Getränke bei den Treffen übernimmt die GdP. \nWir freuen uns dich kennenzulernen!!! \nWenn du noch weitere Infos haben möchtest dann schreib uns eine Mail an junge-gruppe[@]gdp-duisburg.de oder ruf uns an 0203 280 1082
URL:https://gdpnrw.de/duisburg/event/stammtisch-junge-gruppe-3/2029-05-01/
LOCATION:DGB Haus\, Stapeltor 17 - 19\, Duisburg\, 47051
CATEGORIES:Gemeinschaftspflege
END:VEVENT
BEGIN:VEVENT
DTSTART;VALUE=DATE:20290502
DTEND;VALUE=DATE:20290503
DTSTAMP:20260421T222834
CREATED:20240103T165748Z
LAST-MODIFIED:20251106T115816Z
UID:10000753-1872374400-1872460799@gdpnrw.de
SUMMARY:Vorstandssitzung
DESCRIPTION:Die Sitzungen des Vorstands finden am ersten Mittwoch des ersten und dritten Monats im Quartal statt.\n(Jan. – Mär. – Apr. – Jun. – Jul. – Sep. – Okt. – Dez.)
URL:https://gdpnrw.de/duisburg/event/vorstandssitzung-2-2/2029-05-02/
LOCATION:GdP-Büro\, Düsseldorfer Straße 161\, Duisburg\, 47053
END:VEVENT
BEGIN:VEVENT
DTSTART;TZID=Europe/Berlin:20290605T150000
DTEND;TZID=Europe/Berlin:20290605T190000
DTSTAMP:20260421T222834
CREATED:20250131T170642Z
LAST-MODIFIED:20250131T170824Z
UID:10000442-1875366000-1875380400@gdpnrw.de
SUMMARY:Stammtisch Seniorengruppe
DESCRIPTION:Der Stammtisch der Seniorengruppe findet ab 2024 in den geraden Monaten jeweils am ersten Dienstag um 15:00 Uhr statt.\n(Feb. – Apr. – Jun. – Aug. – Okt. – Dez.)
URL:https://gdpnrw.de/duisburg/event/seniorenstammtisch-3-2/2029-06-05/
LOCATION:Hotel-Restaurant Haus Garden\, Friedrich-Ebert-Straße 131–133\, Duisburg\, 47179
CATEGORIES:Gemeinschaftspflege
END:VEVENT
BEGIN:VEVENT
DTSTART;TZID=Europe/Berlin:20290605T160000
DTEND;TZID=Europe/Berlin:20290605T200000
DTSTAMP:20260421T222834
CREATED:20240301T131333Z
LAST-MODIFIED:20250806T144839Z
UID:10000696-1875369600-1875384000@gdpnrw.de
SUMMARY:Stammtisch JUNGE GRUPPE
DESCRIPTION:Die JUNGE GRUPPE veranstaltet jeden ersten Dienstag im Monat ab 16:00 Uhr ihren Stammtisch im Jugendraum im Untergeschoß des DGB Hauses. \nThemenschwerpunkte bei den Sitzungen sind: \n\naktuelle gewerkschaftliche Themen\naktuelle Themen im PP Duisburg\nVernetzung und Austausch der GdP Mitglieder\nProbleme im Studium an der HSPV\nAusstattung innerhalb der Polizei (Uniform / FuE / etc.)\nVereinbarkeit von Familie und Beruf\n\nund vieles mehr. \nEbenso können Probleme im Studium und im Beruf bei den Sitzungen angesprochen werden und Lösungen erarbeitet werden. \nDie Sitzungen sind für alle Mitglieder der GdP offen.\nWünschenswert ist\, dass die Teilnehmer und Teilnehmerinnen unter 32 Jahre alt sind oder noch im Studium. \nDie Getränke bei den Treffen übernimmt die GdP. \nWir freuen uns dich kennenzulernen!!! \nWenn du noch weitere Infos haben möchtest dann schreib uns eine Mail an junge-gruppe[@]gdp-duisburg.de oder ruf uns an 0203 280 1082
URL:https://gdpnrw.de/duisburg/event/stammtisch-junge-gruppe-3/2029-06-05/
LOCATION:DGB Haus\, Stapeltor 17 - 19\, Duisburg\, 47051
CATEGORIES:Gemeinschaftspflege
END:VEVENT
BEGIN:VEVENT
DTSTART;VALUE=DATE:20290606
DTEND;VALUE=DATE:20290607
DTSTAMP:20260421T222834
CREATED:20240103T165748Z
LAST-MODIFIED:20251106T115816Z
UID:10000754-1875398400-1875484799@gdpnrw.de
SUMMARY:Vorstandssitzung
DESCRIPTION:Die Sitzungen des Vorstands finden am ersten Mittwoch des ersten und dritten Monats im Quartal statt.\n(Jan. – Mär. – Apr. – Jun. – Jul. – Sep. – Okt. – Dez.)
URL:https://gdpnrw.de/duisburg/event/vorstandssitzung-2-2/2029-06-06/
LOCATION:GdP-Büro\, Düsseldorfer Straße 161\, Duisburg\, 47053
END:VEVENT
BEGIN:VEVENT
DTSTART;TZID=Europe/Berlin:20290703T160000
DTEND;TZID=Europe/Berlin:20290703T200000
DTSTAMP:20260421T222834
CREATED:20240301T131333Z
LAST-MODIFIED:20250806T144839Z
UID:10000697-1877788800-1877803200@gdpnrw.de
SUMMARY:Stammtisch JUNGE GRUPPE
DESCRIPTION:Die JUNGE GRUPPE veranstaltet jeden ersten Dienstag im Monat ab 16:00 Uhr ihren Stammtisch im Jugendraum im Untergeschoß des DGB Hauses. \nThemenschwerpunkte bei den Sitzungen sind: \n\naktuelle gewerkschaftliche Themen\naktuelle Themen im PP Duisburg\nVernetzung und Austausch der GdP Mitglieder\nProbleme im Studium an der HSPV\nAusstattung innerhalb der Polizei (Uniform / FuE / etc.)\nVereinbarkeit von Familie und Beruf\n\nund vieles mehr. \nEbenso können Probleme im Studium und im Beruf bei den Sitzungen angesprochen werden und Lösungen erarbeitet werden. \nDie Sitzungen sind für alle Mitglieder der GdP offen.\nWünschenswert ist\, dass die Teilnehmer und Teilnehmerinnen unter 32 Jahre alt sind oder noch im Studium. \nDie Getränke bei den Treffen übernimmt die GdP. \nWir freuen uns dich kennenzulernen!!! \nWenn du noch weitere Infos haben möchtest dann schreib uns eine Mail an junge-gruppe[@]gdp-duisburg.de oder ruf uns an 0203 280 1082
URL:https://gdpnrw.de/duisburg/event/stammtisch-junge-gruppe-3/2029-07-03/
LOCATION:DGB Haus\, Stapeltor 17 - 19\, Duisburg\, 47051
CATEGORIES:Gemeinschaftspflege
END:VEVENT
BEGIN:VEVENT
DTSTART;VALUE=DATE:20290704
DTEND;VALUE=DATE:20290705
DTSTAMP:20260421T222834
CREATED:20240103T165748Z
LAST-MODIFIED:20251106T115816Z
UID:10000755-1877817600-1877903999@gdpnrw.de
SUMMARY:Vorstandssitzung
DESCRIPTION:Die Sitzungen des Vorstands finden am ersten Mittwoch des ersten und dritten Monats im Quartal statt.\n(Jan. – Mär. – Apr. – Jun. – Jul. – Sep. – Okt. – Dez.)
URL:https://gdpnrw.de/duisburg/event/vorstandssitzung-2-2/2029-07-04/
LOCATION:GdP-Büro\, Düsseldorfer Straße 161\, Duisburg\, 47053
END:VEVENT
BEGIN:VEVENT
DTSTART;VALUE=DATE:20290801
DTEND;VALUE=DATE:20290802
DTSTAMP:20260421T222834
CREATED:20240103T165748Z
LAST-MODIFIED:20251106T115816Z
UID:10000756-1880236800-1880323199@gdpnrw.de
SUMMARY:Vorstandssitzung
DESCRIPTION:Die Sitzungen des Vorstands finden am ersten Mittwoch des ersten und dritten Monats im Quartal statt.\n(Jan. – Mär. – Apr. – Jun. – Jul. – Sep. – Okt. – Dez.)
URL:https://gdpnrw.de/duisburg/event/vorstandssitzung-2-2/2029-08-01/
LOCATION:GdP-Büro\, Düsseldorfer Straße 161\, Duisburg\, 47053
END:VEVENT
BEGIN:VEVENT
DTSTART;TZID=Europe/Berlin:20290807T150000
DTEND;TZID=Europe/Berlin:20290807T190000
DTSTAMP:20260421T222834
CREATED:20250131T170642Z
LAST-MODIFIED:20250131T170824Z
UID:10000443-1880809200-1880823600@gdpnrw.de
SUMMARY:Stammtisch Seniorengruppe
DESCRIPTION:Der Stammtisch der Seniorengruppe findet ab 2024 in den geraden Monaten jeweils am ersten Dienstag um 15:00 Uhr statt.\n(Feb. – Apr. – Jun. – Aug. – Okt. – Dez.)
URL:https://gdpnrw.de/duisburg/event/seniorenstammtisch-3-2/2029-08-07/
LOCATION:Hotel-Restaurant Haus Garden\, Friedrich-Ebert-Straße 131–133\, Duisburg\, 47179
CATEGORIES:Gemeinschaftspflege
END:VEVENT
BEGIN:VEVENT
DTSTART;TZID=Europe/Berlin:20290807T160000
DTEND;TZID=Europe/Berlin:20290807T200000
DTSTAMP:20260421T222834
CREATED:20240301T131333Z
LAST-MODIFIED:20250806T144839Z
UID:10000698-1880812800-1880827200@gdpnrw.de
SUMMARY:Stammtisch JUNGE GRUPPE
DESCRIPTION:Die JUNGE GRUPPE veranstaltet jeden ersten Dienstag im Monat ab 16:00 Uhr ihren Stammtisch im Jugendraum im Untergeschoß des DGB Hauses. \nThemenschwerpunkte bei den Sitzungen sind: \n\naktuelle gewerkschaftliche Themen\naktuelle Themen im PP Duisburg\nVernetzung und Austausch der GdP Mitglieder\nProbleme im Studium an der HSPV\nAusstattung innerhalb der Polizei (Uniform / FuE / etc.)\nVereinbarkeit von Familie und Beruf\n\nund vieles mehr. \nEbenso können Probleme im Studium und im Beruf bei den Sitzungen angesprochen werden und Lösungen erarbeitet werden. \nDie Sitzungen sind für alle Mitglieder der GdP offen.\nWünschenswert ist\, dass die Teilnehmer und Teilnehmerinnen unter 32 Jahre alt sind oder noch im Studium. \nDie Getränke bei den Treffen übernimmt die GdP. \nWir freuen uns dich kennenzulernen!!! \nWenn du noch weitere Infos haben möchtest dann schreib uns eine Mail an junge-gruppe[@]gdp-duisburg.de oder ruf uns an 0203 280 1082
URL:https://gdpnrw.de/duisburg/event/stammtisch-junge-gruppe-3/2029-08-07/
LOCATION:DGB Haus\, Stapeltor 17 - 19\, Duisburg\, 47051
CATEGORIES:Gemeinschaftspflege
END:VEVENT
BEGIN:VEVENT
DTSTART;TZID=Europe/Berlin:20290904T160000
DTEND;TZID=Europe/Berlin:20290904T200000
DTSTAMP:20260421T222834
CREATED:20240301T131333Z
LAST-MODIFIED:20250806T144839Z
UID:10000699-1883232000-1883246400@gdpnrw.de
SUMMARY:Stammtisch JUNGE GRUPPE
DESCRIPTION:Die JUNGE GRUPPE veranstaltet jeden ersten Dienstag im Monat ab 16:00 Uhr ihren Stammtisch im Jugendraum im Untergeschoß des DGB Hauses. \nThemenschwerpunkte bei den Sitzungen sind: \n\naktuelle gewerkschaftliche Themen\naktuelle Themen im PP Duisburg\nVernetzung und Austausch der GdP Mitglieder\nProbleme im Studium an der HSPV\nAusstattung innerhalb der Polizei (Uniform / FuE / etc.)\nVereinbarkeit von Familie und Beruf\n\nund vieles mehr. \nEbenso können Probleme im Studium und im Beruf bei den Sitzungen angesprochen werden und Lösungen erarbeitet werden. \nDie Sitzungen sind für alle Mitglieder der GdP offen.\nWünschenswert ist\, dass die Teilnehmer und Teilnehmerinnen unter 32 Jahre alt sind oder noch im Studium. \nDie Getränke bei den Treffen übernimmt die GdP. \nWir freuen uns dich kennenzulernen!!! \nWenn du noch weitere Infos haben möchtest dann schreib uns eine Mail an junge-gruppe[@]gdp-duisburg.de oder ruf uns an 0203 280 1082
URL:https://gdpnrw.de/duisburg/event/stammtisch-junge-gruppe-3/2029-09-04/
LOCATION:DGB Haus\, Stapeltor 17 - 19\, Duisburg\, 47051
CATEGORIES:Gemeinschaftspflege
END:VEVENT
BEGIN:VEVENT
DTSTART;VALUE=DATE:20290905
DTEND;VALUE=DATE:20290906
DTSTAMP:20260421T222834
CREATED:20240103T165748Z
LAST-MODIFIED:20251106T115816Z
UID:10000757-1883260800-1883347199@gdpnrw.de
SUMMARY:Vorstandssitzung
DESCRIPTION:Die Sitzungen des Vorstands finden am ersten Mittwoch des ersten und dritten Monats im Quartal statt.\n(Jan. – Mär. – Apr. – Jun. – Jul. – Sep. – Okt. – Dez.)
URL:https://gdpnrw.de/duisburg/event/vorstandssitzung-2-2/2029-09-05/
LOCATION:GdP-Büro\, Düsseldorfer Straße 161\, Duisburg\, 47053
END:VEVENT
BEGIN:VEVENT
DTSTART;TZID=Europe/Berlin:20291002T150000
DTEND;TZID=Europe/Berlin:20291002T190000
DTSTAMP:20260421T222834
CREATED:20250131T170642Z
LAST-MODIFIED:20250131T170824Z
UID:10000444-1885647600-1885662000@gdpnrw.de
SUMMARY:Stammtisch Seniorengruppe
DESCRIPTION:Der Stammtisch der Seniorengruppe findet ab 2024 in den geraden Monaten jeweils am ersten Dienstag um 15:00 Uhr statt.\n(Feb. – Apr. – Jun. – Aug. – Okt. – Dez.)
URL:https://gdpnrw.de/duisburg/event/seniorenstammtisch-3-2/2029-10-02/
LOCATION:Hotel-Restaurant Haus Garden\, Friedrich-Ebert-Straße 131–133\, Duisburg\, 47179
CATEGORIES:Gemeinschaftspflege
END:VEVENT
BEGIN:VEVENT
DTSTART;TZID=Europe/Berlin:20291002T160000
DTEND;TZID=Europe/Berlin:20291002T200000
DTSTAMP:20260421T222834
CREATED:20240301T131333Z
LAST-MODIFIED:20250806T144839Z
UID:10000700-1885651200-1885665600@gdpnrw.de
SUMMARY:Stammtisch JUNGE GRUPPE
DESCRIPTION:Die JUNGE GRUPPE veranstaltet jeden ersten Dienstag im Monat ab 16:00 Uhr ihren Stammtisch im Jugendraum im Untergeschoß des DGB Hauses. \nThemenschwerpunkte bei den Sitzungen sind: \n\naktuelle gewerkschaftliche Themen\naktuelle Themen im PP Duisburg\nVernetzung und Austausch der GdP Mitglieder\nProbleme im Studium an der HSPV\nAusstattung innerhalb der Polizei (Uniform / FuE / etc.)\nVereinbarkeit von Familie und Beruf\n\nund vieles mehr. \nEbenso können Probleme im Studium und im Beruf bei den Sitzungen angesprochen werden und Lösungen erarbeitet werden. \nDie Sitzungen sind für alle Mitglieder der GdP offen.\nWünschenswert ist\, dass die Teilnehmer und Teilnehmerinnen unter 32 Jahre alt sind oder noch im Studium. \nDie Getränke bei den Treffen übernimmt die GdP. \nWir freuen uns dich kennenzulernen!!! \nWenn du noch weitere Infos haben möchtest dann schreib uns eine Mail an junge-gruppe[@]gdp-duisburg.de oder ruf uns an 0203 280 1082
URL:https://gdpnrw.de/duisburg/event/stammtisch-junge-gruppe-3/2029-10-02/
LOCATION:DGB Haus\, Stapeltor 17 - 19\, Duisburg\, 47051
CATEGORIES:Gemeinschaftspflege
END:VEVENT
BEGIN:VEVENT
DTSTART;VALUE=DATE:20291003
DTEND;VALUE=DATE:20291004
DTSTAMP:20260421T222834
CREATED:20240103T165748Z
LAST-MODIFIED:20251106T115816Z
UID:10000758-1885680000-1885766399@gdpnrw.de
SUMMARY:Vorstandssitzung
DESCRIPTION:Die Sitzungen des Vorstands finden am ersten Mittwoch des ersten und dritten Monats im Quartal statt.\n(Jan. – Mär. – Apr. – Jun. – Jul. – Sep. – Okt. – Dez.)
URL:https://gdpnrw.de/duisburg/event/vorstandssitzung-2-2/2029-10-03/
LOCATION:GdP-Büro\, Düsseldorfer Straße 161\, Duisburg\, 47053
END:VEVENT
BEGIN:VEVENT
DTSTART;TZID=Europe/Berlin:20291106T160000
DTEND;TZID=Europe/Berlin:20291106T200000
DTSTAMP:20260421T222834
CREATED:20240301T131333Z
LAST-MODIFIED:20250806T144839Z
UID:10000701-1888675200-1888689600@gdpnrw.de
SUMMARY:Stammtisch JUNGE GRUPPE
DESCRIPTION:Die JUNGE GRUPPE veranstaltet jeden ersten Dienstag im Monat ab 16:00 Uhr ihren Stammtisch im Jugendraum im Untergeschoß des DGB Hauses. \nThemenschwerpunkte bei den Sitzungen sind: \n\naktuelle gewerkschaftliche Themen\naktuelle Themen im PP Duisburg\nVernetzung und Austausch der GdP Mitglieder\nProbleme im Studium an der HSPV\nAusstattung innerhalb der Polizei (Uniform / FuE / etc.)\nVereinbarkeit von Familie und Beruf\n\nund vieles mehr. \nEbenso können Probleme im Studium und im Beruf bei den Sitzungen angesprochen werden und Lösungen erarbeitet werden. \nDie Sitzungen sind für alle Mitglieder der GdP offen.\nWünschenswert ist\, dass die Teilnehmer und Teilnehmerinnen unter 32 Jahre alt sind oder noch im Studium. \nDie Getränke bei den Treffen übernimmt die GdP. \nWir freuen uns dich kennenzulernen!!! \nWenn du noch weitere Infos haben möchtest dann schreib uns eine Mail an junge-gruppe[@]gdp-duisburg.de oder ruf uns an 0203 280 1082
URL:https://gdpnrw.de/duisburg/event/stammtisch-junge-gruppe-3/2029-11-06/
LOCATION:DGB Haus\, Stapeltor 17 - 19\, Duisburg\, 47051
CATEGORIES:Gemeinschaftspflege
END:VEVENT
BEGIN:VEVENT
DTSTART;VALUE=DATE:20291107
DTEND;VALUE=DATE:20291108
DTSTAMP:20260421T222834
CREATED:20240103T165748Z
LAST-MODIFIED:20251106T115816Z
UID:10000759-1888704000-1888790399@gdpnrw.de
SUMMARY:Vorstandssitzung
DESCRIPTION:Die Sitzungen des Vorstands finden am ersten Mittwoch des ersten und dritten Monats im Quartal statt.\n(Jan. – Mär. – Apr. – Jun. – Jul. – Sep. – Okt. – Dez.)
URL:https://gdpnrw.de/duisburg/event/vorstandssitzung-2-2/2029-11-07/
LOCATION:GdP-Büro\, Düsseldorfer Straße 161\, Duisburg\, 47053
END:VEVENT
BEGIN:VEVENT
DTSTART;TZID=Europe/Berlin:20291204T150000
DTEND;TZID=Europe/Berlin:20291204T190000
DTSTAMP:20260421T222834
CREATED:20250131T170642Z
LAST-MODIFIED:20250131T170824Z
UID:10000445-1891090800-1891105200@gdpnrw.de
SUMMARY:Stammtisch Seniorengruppe
DESCRIPTION:Der Stammtisch der Seniorengruppe findet ab 2024 in den geraden Monaten jeweils am ersten Dienstag um 15:00 Uhr statt.\n(Feb. – Apr. – Jun. – Aug. – Okt. – Dez.)
URL:https://gdpnrw.de/duisburg/event/seniorenstammtisch-3-2/2029-12-04/
LOCATION:Hotel-Restaurant Haus Garden\, Friedrich-Ebert-Straße 131–133\, Duisburg\, 47179
CATEGORIES:Gemeinschaftspflege
END:VEVENT
BEGIN:VEVENT
DTSTART;TZID=Europe/Berlin:20291204T160000
DTEND;TZID=Europe/Berlin:20291204T200000
DTSTAMP:20260421T222834
CREATED:20240301T131333Z
LAST-MODIFIED:20250806T144839Z
UID:10000702-1891094400-1891108800@gdpnrw.de
SUMMARY:Stammtisch JUNGE GRUPPE
DESCRIPTION:Die JUNGE GRUPPE veranstaltet jeden ersten Dienstag im Monat ab 16:00 Uhr ihren Stammtisch im Jugendraum im Untergeschoß des DGB Hauses. \nThemenschwerpunkte bei den Sitzungen sind: \n\naktuelle gewerkschaftliche Themen\naktuelle Themen im PP Duisburg\nVernetzung und Austausch der GdP Mitglieder\nProbleme im Studium an der HSPV\nAusstattung innerhalb der Polizei (Uniform / FuE / etc.)\nVereinbarkeit von Familie und Beruf\n\nund vieles mehr. \nEbenso können Probleme im Studium und im Beruf bei den Sitzungen angesprochen werden und Lösungen erarbeitet werden. \nDie Sitzungen sind für alle Mitglieder der GdP offen.\nWünschenswert ist\, dass die Teilnehmer und Teilnehmerinnen unter 32 Jahre alt sind oder noch im Studium. \nDie Getränke bei den Treffen übernimmt die GdP. \nWir freuen uns dich kennenzulernen!!! \nWenn du noch weitere Infos haben möchtest dann schreib uns eine Mail an junge-gruppe[@]gdp-duisburg.de oder ruf uns an 0203 280 1082
URL:https://gdpnrw.de/duisburg/event/stammtisch-junge-gruppe-3/2029-12-04/
LOCATION:DGB Haus\, Stapeltor 17 - 19\, Duisburg\, 47051
CATEGORIES:Gemeinschaftspflege
END:VEVENT
BEGIN:VEVENT
DTSTART;VALUE=DATE:20291205
DTEND;VALUE=DATE:20291206
DTSTAMP:20260421T222834
CREATED:20240103T165748Z
LAST-MODIFIED:20251106T115816Z
UID:10000760-1891123200-1891209599@gdpnrw.de
SUMMARY:Vorstandssitzung
DESCRIPTION:Die Sitzungen des Vorstands finden am ersten Mittwoch des ersten und dritten Monats im Quartal statt.\n(Jan. – Mär. – Apr. – Jun. – Jul. – Sep. – Okt. – Dez.)
URL:https://gdpnrw.de/duisburg/event/vorstandssitzung-2-2/2029-12-05/
LOCATION:GdP-Büro\, Düsseldorfer Straße 161\, Duisburg\, 47053
END:VEVENT
BEGIN:VEVENT
DTSTART;TZID=Europe/Berlin:20300101T160000
DTEND;TZID=Europe/Berlin:20300101T200000
DTSTAMP:20260421T222834
CREATED:20240301T131333Z
LAST-MODIFIED:20250806T144839Z
UID:10000703-1893513600-1893528000@gdpnrw.de
SUMMARY:Stammtisch JUNGE GRUPPE
DESCRIPTION:Die JUNGE GRUPPE veranstaltet jeden ersten Dienstag im Monat ab 16:00 Uhr ihren Stammtisch im Jugendraum im Untergeschoß des DGB Hauses. \nThemenschwerpunkte bei den Sitzungen sind: \n\naktuelle gewerkschaftliche Themen\naktuelle Themen im PP Duisburg\nVernetzung und Austausch der GdP Mitglieder\nProbleme im Studium an der HSPV\nAusstattung innerhalb der Polizei (Uniform / FuE / etc.)\nVereinbarkeit von Familie und Beruf\n\nund vieles mehr. \nEbenso können Probleme im Studium und im Beruf bei den Sitzungen angesprochen werden und Lösungen erarbeitet werden. \nDie Sitzungen sind für alle Mitglieder der GdP offen.\nWünschenswert ist\, dass die Teilnehmer und Teilnehmerinnen unter 32 Jahre alt sind oder noch im Studium. \nDie Getränke bei den Treffen übernimmt die GdP. \nWir freuen uns dich kennenzulernen!!! \nWenn du noch weitere Infos haben möchtest dann schreib uns eine Mail an junge-gruppe[@]gdp-duisburg.de oder ruf uns an 0203 280 1082
URL:https://gdpnrw.de/duisburg/event/stammtisch-junge-gruppe-3/2030-01-01/
LOCATION:DGB Haus\, Stapeltor 17 - 19\, Duisburg\, 47051
CATEGORIES:Gemeinschaftspflege
END:VEVENT
BEGIN:VEVENT
DTSTART;VALUE=DATE:20300102
DTEND;VALUE=DATE:20300103
DTSTAMP:20260421T222834
CREATED:20240103T165748Z
LAST-MODIFIED:20251106T115816Z
UID:10000761-1893542400-1893628799@gdpnrw.de
SUMMARY:Vorstandssitzung
DESCRIPTION:Die Sitzungen des Vorstands finden am ersten Mittwoch des ersten und dritten Monats im Quartal statt.\n(Jan. – Mär. – Apr. – Jun. – Jul. – Sep. – Okt. – Dez.)
URL:https://gdpnrw.de/duisburg/event/vorstandssitzung-2-2/2030-01-02/
LOCATION:GdP-Büro\, Düsseldorfer Straße 161\, Duisburg\, 47053
END:VEVENT
BEGIN:VEVENT
DTSTART;TZID=Europe/Berlin:20300205T160000
DTEND;TZID=Europe/Berlin:20300205T200000
DTSTAMP:20260421T222834
CREATED:20240301T131333Z
LAST-MODIFIED:20250806T144839Z
UID:10000704-1896537600-1896552000@gdpnrw.de
SUMMARY:Stammtisch JUNGE GRUPPE
DESCRIPTION:Die JUNGE GRUPPE veranstaltet jeden ersten Dienstag im Monat ab 16:00 Uhr ihren Stammtisch im Jugendraum im Untergeschoß des DGB Hauses. \nThemenschwerpunkte bei den Sitzungen sind: \n\naktuelle gewerkschaftliche Themen\naktuelle Themen im PP Duisburg\nVernetzung und Austausch der GdP Mitglieder\nProbleme im Studium an der HSPV\nAusstattung innerhalb der Polizei (Uniform / FuE / etc.)\nVereinbarkeit von Familie und Beruf\n\nund vieles mehr. \nEbenso können Probleme im Studium und im Beruf bei den Sitzungen angesprochen werden und Lösungen erarbeitet werden. \nDie Sitzungen sind für alle Mitglieder der GdP offen.\nWünschenswert ist\, dass die Teilnehmer und Teilnehmerinnen unter 32 Jahre alt sind oder noch im Studium. \nDie Getränke bei den Treffen übernimmt die GdP. \nWir freuen uns dich kennenzulernen!!! \nWenn du noch weitere Infos haben möchtest dann schreib uns eine Mail an junge-gruppe[@]gdp-duisburg.de oder ruf uns an 0203 280 1082
URL:https://gdpnrw.de/duisburg/event/stammtisch-junge-gruppe-3/2030-02-05/
LOCATION:DGB Haus\, Stapeltor 17 - 19\, Duisburg\, 47051
CATEGORIES:Gemeinschaftspflege
END:VEVENT
BEGIN:VEVENT
DTSTART;VALUE=DATE:20300206
DTEND;VALUE=DATE:20300207
DTSTAMP:20260421T222834
CREATED:20240103T165748Z
LAST-MODIFIED:20251106T115816Z
UID:10000762-1896566400-1896652799@gdpnrw.de
SUMMARY:Vorstandssitzung
DESCRIPTION:Die Sitzungen des Vorstands finden am ersten Mittwoch des ersten und dritten Monats im Quartal statt.\n(Jan. – Mär. – Apr. – Jun. – Jul. – Sep. – Okt. – Dez.)
URL:https://gdpnrw.de/duisburg/event/vorstandssitzung-2-2/2030-02-06/
LOCATION:GdP-Büro\, Düsseldorfer Straße 161\, Duisburg\, 47053
END:VEVENT
BEGIN:VEVENT
DTSTART;TZID=Europe/Berlin:20300305T160000
DTEND;TZID=Europe/Berlin:20300305T200000
DTSTAMP:20260421T222834
CREATED:20240301T131333Z
LAST-MODIFIED:20250806T144839Z
UID:10000705-1898956800-1898971200@gdpnrw.de
SUMMARY:Stammtisch JUNGE GRUPPE
DESCRIPTION:Die JUNGE GRUPPE veranstaltet jeden ersten Dienstag im Monat ab 16:00 Uhr ihren Stammtisch im Jugendraum im Untergeschoß des DGB Hauses. \nThemenschwerpunkte bei den Sitzungen sind: \n\naktuelle gewerkschaftliche Themen\naktuelle Themen im PP Duisburg\nVernetzung und Austausch der GdP Mitglieder\nProbleme im Studium an der HSPV\nAusstattung innerhalb der Polizei (Uniform / FuE / etc.)\nVereinbarkeit von Familie und Beruf\n\nund vieles mehr. \nEbenso können Probleme im Studium und im Beruf bei den Sitzungen angesprochen werden und Lösungen erarbeitet werden. \nDie Sitzungen sind für alle Mitglieder der GdP offen.\nWünschenswert ist\, dass die Teilnehmer und Teilnehmerinnen unter 32 Jahre alt sind oder noch im Studium. \nDie Getränke bei den Treffen übernimmt die GdP. \nWir freuen uns dich kennenzulernen!!! \nWenn du noch weitere Infos haben möchtest dann schreib uns eine Mail an junge-gruppe[@]gdp-duisburg.de oder ruf uns an 0203 280 1082
URL:https://gdpnrw.de/duisburg/event/stammtisch-junge-gruppe-3/2030-03-05/
LOCATION:DGB Haus\, Stapeltor 17 - 19\, Duisburg\, 47051
CATEGORIES:Gemeinschaftspflege
END:VEVENT
BEGIN:VEVENT
DTSTART;VALUE=DATE:20300306
DTEND;VALUE=DATE:20300307
DTSTAMP:20260421T222834
CREATED:20240103T165748Z
LAST-MODIFIED:20251106T115816Z
UID:10000763-1898985600-1899071999@gdpnrw.de
SUMMARY:Vorstandssitzung
DESCRIPTION:Die Sitzungen des Vorstands finden am ersten Mittwoch des ersten und dritten Monats im Quartal statt.\n(Jan. – Mär. – Apr. – Jun. – Jul. – Sep. – Okt. – Dez.)
URL:https://gdpnrw.de/duisburg/event/vorstandssitzung-2-2/2030-03-06/
LOCATION:GdP-Büro\, Düsseldorfer Straße 161\, Duisburg\, 47053
END:VEVENT
END:VCALENDAR