BEGIN:VCALENDAR
VERSION:2.0
PRODID:-//Kreisgruppe Duisburg - ECPv6.15.20//NONSGML v1.0//EN
CALSCALE:GREGORIAN
METHOD:PUBLISH
X-WR-CALNAME:Kreisgruppe Duisburg
X-ORIGINAL-URL:https://gdpnrw.de/duisburg
X-WR-CALDESC:Veranstaltungen für Kreisgruppe Duisburg
REFRESH-INTERVAL;VALUE=DURATION:PT1H
X-Robots-Tag:noindex
X-PUBLISHED-TTL:PT1H
BEGIN:VTIMEZONE
TZID:Europe/Berlin
BEGIN:DAYLIGHT
TZOFFSETFROM:+0100
TZOFFSETTO:+0200
TZNAME:CEST
DTSTART:20230326T010000
END:DAYLIGHT
BEGIN:STANDARD
TZOFFSETFROM:+0200
TZOFFSETTO:+0100
TZNAME:CET
DTSTART:20231029T010000
END:STANDARD
BEGIN:DAYLIGHT
TZOFFSETFROM:+0100
TZOFFSETTO:+0200
TZNAME:CEST
DTSTART:20240331T010000
END:DAYLIGHT
BEGIN:STANDARD
TZOFFSETFROM:+0200
TZOFFSETTO:+0100
TZNAME:CET
DTSTART:20241027T010000
END:STANDARD
BEGIN:DAYLIGHT
TZOFFSETFROM:+0100
TZOFFSETTO:+0200
TZNAME:CEST
DTSTART:20250330T010000
END:DAYLIGHT
BEGIN:STANDARD
TZOFFSETFROM:+0200
TZOFFSETTO:+0100
TZNAME:CET
DTSTART:20251026T010000
END:STANDARD
END:VTIMEZONE
BEGIN:VEVENT
DTSTART;TZID=Europe/Berlin:20240528T160000
DTEND;TZID=Europe/Berlin:20240528T190000
DTSTAMP:20260422T150844
CREATED:20250324T151253Z
LAST-MODIFIED:20250324T151257Z
UID:10000472-1716912000-1716922800@gdpnrw.de
SUMMARY:*** Terminverschiebung! *** – Sitzung des erweiterten Vorstands
DESCRIPTION:Die Sitzungen des erweiterten Vorstand finden am ersten Mittwoch des zweiten Monats im Quartal statt.\n(Feb. – Mai – Aug. – Nov.)
URL:https://gdpnrw.de/duisburg/event/sitzung-des-erweiterten-vorstands-2/
LOCATION:Café Museum\, Friedrich-Wilhelm-Straße 64a\, Duisburg\, 47051
END:VEVENT
END:VCALENDAR