BEGIN:VCALENDAR
VERSION:2.0
PRODID:-//Kreisgruppe Duisburg - ECPv6.15.20//NONSGML v1.0//EN
CALSCALE:GREGORIAN
METHOD:PUBLISH
X-ORIGINAL-URL:https://gdpnrw.de/duisburg
X-WR-CALDESC:Veranstaltungen für Kreisgruppe Duisburg
REFRESH-INTERVAL;VALUE=DURATION:PT1H
X-Robots-Tag:noindex
X-PUBLISHED-TTL:PT1H
BEGIN:VTIMEZONE
TZID:Europe/Berlin
BEGIN:DAYLIGHT
TZOFFSETFROM:+0100
TZOFFSETTO:+0200
TZNAME:CEST
DTSTART:20240331T010000
END:DAYLIGHT
BEGIN:STANDARD
TZOFFSETFROM:+0200
TZOFFSETTO:+0100
TZNAME:CET
DTSTART:20241027T010000
END:STANDARD
BEGIN:DAYLIGHT
TZOFFSETFROM:+0100
TZOFFSETTO:+0200
TZNAME:CEST
DTSTART:20250330T010000
END:DAYLIGHT
BEGIN:STANDARD
TZOFFSETFROM:+0200
TZOFFSETTO:+0100
TZNAME:CET
DTSTART:20251026T010000
END:STANDARD
BEGIN:DAYLIGHT
TZOFFSETFROM:+0100
TZOFFSETTO:+0200
TZNAME:CEST
DTSTART:20260329T010000
END:DAYLIGHT
BEGIN:STANDARD
TZOFFSETFROM:+0200
TZOFFSETTO:+0100
TZNAME:CET
DTSTART:20261025T010000
END:STANDARD
END:VTIMEZONE
BEGIN:VEVENT
DTSTART;VALUE=DATE:20250402
DTEND;VALUE=DATE:20250403
DTSTAMP:20260422T003613
CREATED:20240103T165748Z
LAST-MODIFIED:20251106T115816Z
UID:10000359-1743552000-1743638399@gdpnrw.de
SUMMARY:Vorstandssitzung
DESCRIPTION:Die Sitzungen des Vorstands finden am ersten Mittwoch des ersten und dritten Monats im Quartal statt.\n(Jan. – Mär. – Apr. – Jun. – Jul. – Sep. – Okt. – Dez.)
URL:https://gdpnrw.de/duisburg/event/vorstandssitzung-2-2/2025-04-02/
LOCATION:GdP-Büro\, Düsseldorfer Straße 161\, Duisburg\, 47053
END:VEVENT
END:VCALENDAR