BEGIN:VCALENDAR
VERSION:2.0
PRODID:-//Bezirksverband Aus- und Fortbildung - ECPv6.15.20//NONSGML v1.0//EN
CALSCALE:GREGORIAN
METHOD:PUBLISH
X-WR-CALNAME:Bezirksverband Aus- und Fortbildung
X-ORIGINAL-URL:https://gdpnrw.de/bv-aus-und-fortbildung
X-WR-CALDESC:Veranstaltungen für Bezirksverband Aus- und Fortbildung
REFRESH-INTERVAL;VALUE=DURATION:PT1H
X-Robots-Tag:noindex
X-PUBLISHED-TTL:PT1H
BEGIN:VTIMEZONE
TZID:Europe/Berlin
BEGIN:DAYLIGHT
TZOFFSETFROM:+0100
TZOFFSETTO:+0200
TZNAME:CEST
DTSTART:20190331T010000
END:DAYLIGHT
BEGIN:STANDARD
TZOFFSETFROM:+0200
TZOFFSETTO:+0100
TZNAME:CET
DTSTART:20191027T010000
END:STANDARD
BEGIN:DAYLIGHT
TZOFFSETFROM:+0100
TZOFFSETTO:+0200
TZNAME:CEST
DTSTART:20200329T010000
END:DAYLIGHT
BEGIN:STANDARD
TZOFFSETFROM:+0200
TZOFFSETTO:+0100
TZNAME:CET
DTSTART:20201025T010000
END:STANDARD
BEGIN:DAYLIGHT
TZOFFSETFROM:+0100
TZOFFSETTO:+0200
TZNAME:CEST
DTSTART:20210328T010000
END:DAYLIGHT
BEGIN:STANDARD
TZOFFSETFROM:+0200
TZOFFSETTO:+0100
TZNAME:CET
DTSTART:20211031T010000
END:STANDARD
END:VTIMEZONE
BEGIN:VEVENT
DTSTART;VALUE=DATE:20200402
DTEND;VALUE=DATE:20200403
DTSTAMP:20260422T011547
CREATED:20200228T102840Z
LAST-MODIFIED:20200324T091722Z
UID:10000022-1585785600-1585871999@gdpnrw.de
SUMMARY:*****abgesagt***** BZ Neuss "gemeinsames Grillen"
DESCRIPTION:ab 16.00 Uhr
URL:https://gdpnrw.de/bv-aus-und-fortbildung/event/bz-neuss-gemeinsames-grillen/
LOCATION:BZ Neuss\, dortiger Innenhof
END:VEVENT
BEGIN:VEVENT
DTSTART;VALUE=DATE:20200423
DTEND;VALUE=DATE:20200424
DTSTAMP:20260422T011547
CREATED:20200222T165932Z
LAST-MODIFIED:20200324T091759Z
UID:10000020-1587600000-1587686399@gdpnrw.de
SUMMARY:*****abgesagt***** BZ Erich Klausener Klön-Treff mit Michael Maatz
DESCRIPTION:  \nLiebe Kolleginnen und Kollegen\, \nwir laden ein zum „Klön – Treff“ bei Bratwurst und Getränken. \nWann:            23. April 2020 ab 15:30 Uhr \nWo:                 Kantine „By Fuat“ \nGast:              Michael Maatz \nstellv. Vorsitzender des GdP Landesbezirks NRW\, stellvertr. Vorsitzender des BV Aus- und Fortbildung und Mitglied im Polizeihauptpersonalrat im IM NRW sowie im Personalrat des LAFP NRW. \nIn lockerer Atmosphäre können wir aktuelle Themen aus dem Polizeibereich bekanntgeben\, ggf. Probleme ansprechen oder auch einfach nur klönen. \nWir freuen uns auf Eure Teilnahme. \nHerzliche Grüße \nDas Vorstand Team \n 
URL:https://gdpnrw.de/bv-aus-und-fortbildung/event/bz-erich-klausener-kloen-treff-mit-michael-maatz/
LOCATION:Kantine „By Fuat“
END:VEVENT
END:VCALENDAR