BEGIN:VCALENDAR
VERSION:2.0
PRODID:-//Bezirksverband Aus- und Fortbildung - ECPv6.15.20//NONSGML v1.0//EN
CALSCALE:GREGORIAN
METHOD:PUBLISH
X-ORIGINAL-URL:https://gdpnrw.de/bv-aus-und-fortbildung
X-WR-CALDESC:Veranstaltungen für Bezirksverband Aus- und Fortbildung
REFRESH-INTERVAL;VALUE=DURATION:PT1H
X-Robots-Tag:noindex
X-PUBLISHED-TTL:PT1H
BEGIN:VTIMEZONE
TZID:Europe/Berlin
BEGIN:DAYLIGHT
TZOFFSETFROM:+0100
TZOFFSETTO:+0200
TZNAME:CEST
DTSTART:20190331T010000
END:DAYLIGHT
BEGIN:STANDARD
TZOFFSETFROM:+0200
TZOFFSETTO:+0100
TZNAME:CET
DTSTART:20191027T010000
END:STANDARD
BEGIN:DAYLIGHT
TZOFFSETFROM:+0100
TZOFFSETTO:+0200
TZNAME:CEST
DTSTART:20200329T010000
END:DAYLIGHT
BEGIN:STANDARD
TZOFFSETFROM:+0200
TZOFFSETTO:+0100
TZNAME:CET
DTSTART:20201025T010000
END:STANDARD
BEGIN:DAYLIGHT
TZOFFSETFROM:+0100
TZOFFSETTO:+0200
TZNAME:CEST
DTSTART:20210328T010000
END:DAYLIGHT
BEGIN:STANDARD
TZOFFSETFROM:+0200
TZOFFSETTO:+0100
TZNAME:CET
DTSTART:20211031T010000
END:STANDARD
END:VTIMEZONE
BEGIN:VEVENT
DTSTART;VALUE=DATE:20200318
DTEND;VALUE=DATE:20200319
DTSTAMP:20260422T025051
CREATED:20200228T102223Z
LAST-MODIFIED:20200316T104513Z
UID:10000021-1584489600-1584575999@gdpnrw.de
SUMMARY:*****abgesagt***** BZ Brühl "aktive Mittagspause der GdP" mit Michael Maatz
DESCRIPTION:  \n\n\n\n \nBei Cafe und Kuchen steht Euch ab 11.30 Uhr der stellvertretende Landesvorsitzende der GdP Michael Maatz Rede und Antwort. \nGleiches gilt natürlich auch für unsere Spitzenkandidaten aus den Reihen der Kreisgruppe des BZ Brühl. \nUnser Kreisgruppenvorsitzender Alexander Ponickau kandidiert als einer der Spitzenkandidaten für den Polizeihauptpersonalrat. \nFür den örtlichen Personalrat ist für die Gruppe der Tarifbeschäftigten Detlef Ottmann und für die Gruppe der Beamten Christoph Hirsch aufgestellt. \nWir freuen uns auf Euch und auf gute Gespräche.\n\n\n\nEuer Vorstand
URL:https://gdpnrw.de/bv-aus-und-fortbildung/event/bz-bruehl-aktive-mittagspause-der-gdp-mit-michael-maatz/
LOCATION:Wirtschaftsgebäude des BZ Brühl vor der dortigen Mensa/Kantine
END:VEVENT
BEGIN:VEVENT
DTSTART;VALUE=DATE:20200325
DTEND;VALUE=DATE:20200326
DTSTAMP:20260422T025051
CREATED:20200304T015856Z
LAST-MODIFIED:20200315T104509Z
UID:10000024-1585094400-1585180799@gdpnrw.de
SUMMARY:*****abgesagt****KG Selm lädt ein zum Skat-Turnier
DESCRIPTION:  \nDie GdP Kreisgruppe Selm  \nlädt ein zum \nSKAT – Turnier \nGespielt wird am Mittwoch\, 25.03.2020\,  \nab 17:00 Uhr\, im „Roten Salon“  \nin der Kantine des LAFP Selm. \n  \n\nNeben attraktiven Sachpreisen die ausgespielt werden\,  \nqualifizieren sich die beiden Erstplatzierten  \nfür das am 06.05.20 in Dormagen/Zons stattfindende Landes-Skatturnier. \n☺ Dort sind sie dann natürlich Gäste der GdP NRW ☺ \nTeilnehmen können alle Mitglieder der GdP KG Selm. \n(Mindestteilnehmerzahl 9 Spieler) \nAnmeldungen bitte bis spätestens Mittwoch\, 18.03.2020 an \ningo.nagel@polizei.nrw.de oder 02592/686383  \n„Gut Blatt“ wünscht eure GdP                                                     
URL:https://gdpnrw.de/bv-aus-und-fortbildung/event/kg-selm-laedt-ein-zum-skat-turnier/
LOCATION:„Roter Salon“ der Kantine in Selm
END:VEVENT
BEGIN:VEVENT
DTSTART;VALUE=DATE:20200326
DTEND;VALUE=DATE:20200327
DTSTAMP:20260422T025051
CREATED:20200222T165737Z
LAST-MODIFIED:20200316T104648Z
UID:10000019-1585180800-1585267199@gdpnrw.de
SUMMARY:*****abgesagt***** BZ Erich Klausener Klön-Treff mit Jutta Jakobs
DESCRIPTION:  \n  \nLiebe Kolleginnen und Kollegen\, \nwir laden ein zum „Klön – Treff“ bei Bratwurst und Getränken. \nWann:            26. März 2020 ab 15:30 Uhr \nWo:                 Kantine „By Fuat“ \nGast:              Jutta Jakobs \n\nstellv. Vorsitzende des GdP Landesbezirks NRW und stellvertr. Vorsitzende des Polizeihauptpersonalrates im IM NRW. \nIn lockerer Atmosphäre können wir aktuelle Themen aus dem Polizeibereich bekanntgeben\, ggf. Probleme ansprechen oder auch einfach nur klönen. \nWir freuen uns auf Eure Teilnahme. \nHerzliche Grüße \nDas Vorstand Team \n 
URL:https://gdpnrw.de/bv-aus-und-fortbildung/event/bz-erich-klausener-kloen-treff-mit-jutta-jakobs/
LOCATION:Kantine „By Fuat“
END:VEVENT
BEGIN:VEVENT
DTSTART;TZID=Europe/Berlin:20200327T070000
DTEND;TZID=Europe/Berlin:20200327T190000
DTSTAMP:20260422T025051
CREATED:20200309T103722Z
LAST-MODIFIED:20200316T104411Z
UID:10000025-1585292400-1585335600@gdpnrw.de
SUMMARY:*****abgesagt***** BZ Brühl Ausflug zur BV-Konferenz in Selm
DESCRIPTION:  \n\n  \nLiebe Kolleginnen und Kollegen\, \nwir möchten Euch herzlich zum Ausflug zur BV Konferenz  in Selm einladen. \nWANN?                        27.03.2020 Abfahrt 07:00 Uhr  \nWO?                              BZ Brühl Parkplatz im Gebäude 10 \n\nAuch in diesem Jahr möchten wir mit Euch mit einem Bus zur BV Konferenz fahren. \nDort erwartet uns eine tolle Veranstaltung mit unserem BV Vorsitzenden und stellv. Landesvorsitzenden Michael Maatz\, \nunserem PHPR Vorsitzenden Rainer Peltz\, \nunserem Behördenleiter Michael Frücht\, \nsowie den Spitzenkandidaten für den PHPR Markus Robert. \nIm Anschluss an die Veranstaltung möchten wir Euch  in das Brühler Wirtshaus am Schloss zu einem leckeren Ausklang des Tages einladen. \nEuer Vorstand
URL:https://gdpnrw.de/bv-aus-und-fortbildung/event/bz-bruehl-ausflug-zur-bv-konferenz-in-selm/
END:VEVENT
BEGIN:VEVENT
DTSTART;TZID=Europe/Berlin:20200327T093000
DTEND;TZID=Europe/Berlin:20200327T130000
DTSTAMP:20260422T025051
CREATED:20200222T101655Z
LAST-MODIFIED:20200316T104253Z
UID:10000018-1585301400-1585314000@gdpnrw.de
SUMMARY:*****abgesagt***** BV-Konferenz
DESCRIPTION:Tagesordnung:\n\nBegrüßung/Eröffnung                                                                                                    Michael Maatz\nVerabschiedung des scheidenden  PHPR-Vorsitzenden Rainer Peltz         Michael Maatz\nGrußwort unseres Behördenleiters                                                                          Herr Frücht\nWahlkampfrede des Spitzenkandidaten Beamte                                                 Markus Robert\nWahlkampfrede der Spitzenkandidatin Arbeitnehmer                                     Jutta Jakobs\nGewerkschaftlicher Situationsbericht                                                                      Heiko Müller\nVorstellung des Wahlkampfkonzeptes der GdP                                                    Michael Maatz\nPräsentation der GdP Service GmbH                                                                        Michael Maatz\nSchlusswort/Verabschiedung                                                                                      Michael Maatz\n\n\nBezirkskonferenz des BV Aus- und Fortbildung am 27.März 2020\n 
URL:https://gdpnrw.de/bv-aus-und-fortbildung/event/bv-konferenz/
LOCATION:Selm\, Gebäude 23\, dortige Aula
END:VEVENT
END:VCALENDAR