BEGIN:VCALENDAR
VERSION:2.0
PRODID:-//Bezirksverband Aus- und Fortbildung - ECPv6.15.20//NONSGML v1.0//EN
CALSCALE:GREGORIAN
METHOD:PUBLISH
X-WR-CALNAME:Bezirksverband Aus- und Fortbildung
X-ORIGINAL-URL:https://gdpnrw.de/bv-aus-und-fortbildung
X-WR-CALDESC:Veranstaltungen für Bezirksverband Aus- und Fortbildung
REFRESH-INTERVAL;VALUE=DURATION:PT1H
X-Robots-Tag:noindex
X-PUBLISHED-TTL:PT1H
BEGIN:VTIMEZONE
TZID:Europe/Berlin
BEGIN:DAYLIGHT
TZOFFSETFROM:+0100
TZOFFSETTO:+0200
TZNAME:CEST
DTSTART:20190331T010000
END:DAYLIGHT
BEGIN:STANDARD
TZOFFSETFROM:+0200
TZOFFSETTO:+0100
TZNAME:CET
DTSTART:20191027T010000
END:STANDARD
BEGIN:DAYLIGHT
TZOFFSETFROM:+0100
TZOFFSETTO:+0200
TZNAME:CEST
DTSTART:20200329T010000
END:DAYLIGHT
BEGIN:STANDARD
TZOFFSETFROM:+0200
TZOFFSETTO:+0100
TZNAME:CET
DTSTART:20201025T010000
END:STANDARD
BEGIN:DAYLIGHT
TZOFFSETFROM:+0100
TZOFFSETTO:+0200
TZNAME:CEST
DTSTART:20210328T010000
END:DAYLIGHT
BEGIN:STANDARD
TZOFFSETFROM:+0200
TZOFFSETTO:+0100
TZNAME:CET
DTSTART:20211031T010000
END:STANDARD
END:VTIMEZONE
BEGIN:VEVENT
DTSTART;TZID=Europe/Berlin:20200327T070000
DTEND;TZID=Europe/Berlin:20200327T190000
DTSTAMP:20260422T040731
CREATED:20200309T103722Z
LAST-MODIFIED:20200316T104411Z
UID:10000025-1585292400-1585335600@gdpnrw.de
SUMMARY:*****abgesagt***** BZ Brühl Ausflug zur BV-Konferenz in Selm
DESCRIPTION:  \n\n  \nLiebe Kolleginnen und Kollegen\, \nwir möchten Euch herzlich zum Ausflug zur BV Konferenz  in Selm einladen. \nWANN?                        27.03.2020 Abfahrt 07:00 Uhr  \nWO?                              BZ Brühl Parkplatz im Gebäude 10 \n\nAuch in diesem Jahr möchten wir mit Euch mit einem Bus zur BV Konferenz fahren. \nDort erwartet uns eine tolle Veranstaltung mit unserem BV Vorsitzenden und stellv. Landesvorsitzenden Michael Maatz\, \nunserem PHPR Vorsitzenden Rainer Peltz\, \nunserem Behördenleiter Michael Frücht\, \nsowie den Spitzenkandidaten für den PHPR Markus Robert. \nIm Anschluss an die Veranstaltung möchten wir Euch  in das Brühler Wirtshaus am Schloss zu einem leckeren Ausklang des Tages einladen. \nEuer Vorstand
URL:https://gdpnrw.de/bv-aus-und-fortbildung/event/bz-bruehl-ausflug-zur-bv-konferenz-in-selm/
END:VEVENT
BEGIN:VEVENT
DTSTART;TZID=Europe/Berlin:20200327T093000
DTEND;TZID=Europe/Berlin:20200327T130000
DTSTAMP:20260422T040731
CREATED:20200222T101655Z
LAST-MODIFIED:20200316T104253Z
UID:10000018-1585301400-1585314000@gdpnrw.de
SUMMARY:*****abgesagt***** BV-Konferenz
DESCRIPTION:Tagesordnung:\n\nBegrüßung/Eröffnung                                                                                                    Michael Maatz\nVerabschiedung des scheidenden  PHPR-Vorsitzenden Rainer Peltz         Michael Maatz\nGrußwort unseres Behördenleiters                                                                          Herr Frücht\nWahlkampfrede des Spitzenkandidaten Beamte                                                 Markus Robert\nWahlkampfrede der Spitzenkandidatin Arbeitnehmer                                     Jutta Jakobs\nGewerkschaftlicher Situationsbericht                                                                      Heiko Müller\nVorstellung des Wahlkampfkonzeptes der GdP                                                    Michael Maatz\nPräsentation der GdP Service GmbH                                                                        Michael Maatz\nSchlusswort/Verabschiedung                                                                                      Michael Maatz\n\n\nBezirkskonferenz des BV Aus- und Fortbildung am 27.März 2020\n 
URL:https://gdpnrw.de/bv-aus-und-fortbildung/event/bv-konferenz/
LOCATION:Selm\, Gebäude 23\, dortige Aula
END:VEVENT
END:VCALENDAR