BEGIN:VCALENDAR
VERSION:2.0
PRODID:-//Kreisgruppe Borken - ECPv6.15.20//NONSGML v1.0//EN
CALSCALE:GREGORIAN
METHOD:PUBLISH
X-WR-CALNAME:Kreisgruppe Borken
X-ORIGINAL-URL:https://gdpnrw.de/borken
X-WR-CALDESC:Veranstaltungen für Kreisgruppe Borken
REFRESH-INTERVAL;VALUE=DURATION:PT1H
X-Robots-Tag:noindex
X-PUBLISHED-TTL:PT1H
BEGIN:VTIMEZONE
TZID:Europe/Berlin
BEGIN:DAYLIGHT
TZOFFSETFROM:+0100
TZOFFSETTO:+0200
TZNAME:CEST
DTSTART:20180325T010000
END:DAYLIGHT
BEGIN:STANDARD
TZOFFSETFROM:+0200
TZOFFSETTO:+0100
TZNAME:CET
DTSTART:20181028T010000
END:STANDARD
BEGIN:DAYLIGHT
TZOFFSETFROM:+0100
TZOFFSETTO:+0200
TZNAME:CEST
DTSTART:20190331T010000
END:DAYLIGHT
BEGIN:STANDARD
TZOFFSETFROM:+0200
TZOFFSETTO:+0100
TZNAME:CET
DTSTART:20191027T010000
END:STANDARD
BEGIN:DAYLIGHT
TZOFFSETFROM:+0100
TZOFFSETTO:+0200
TZNAME:CEST
DTSTART:20200329T010000
END:DAYLIGHT
BEGIN:STANDARD
TZOFFSETFROM:+0200
TZOFFSETTO:+0100
TZNAME:CET
DTSTART:20201025T010000
END:STANDARD
END:VTIMEZONE
BEGIN:VEVENT
DTSTART;TZID=Europe/Berlin:20191216T140000
DTEND;TZID=Europe/Berlin:20191216T220000
DTSTAMP:20260425T160740
CREATED:20191203T081044Z
LAST-MODIFIED:20191203T082442Z
UID:118-1576504800-1576533600@gdpnrw.de
SUMMARY:Junge Gruppe lädt ein – gemeinsam auf den Weihnachtsmarkt
DESCRIPTION:Das Jahr 2019 neigt sich dem Ende zu. Dies möchten wir\, die Junge Gruppe der GdP-Kreisgruppe Borken\, zum Anlass nehmen und laden Dich (U30 – GdP-Mitglied) dazu recht herzlich am Montag\, 16.12.2019  um 14.00 Uhr auf den Bocholter Weihnachtsmarkt ein. In gemütlicher Runde möchten wir uns auf die Weihnachtszeit einstimmen und dabei Ideen und Perspektiven für das kommende Jahr 2020 sammeln. \n\n\nDie ersten Getränke gehen selbstverständlich auf uns! \nWir bitten um  Anmeldung bis zum 11.12.19 via Mail bei Freddy Klöpper\, Helge Gövert oder Michelle Sieverding. \n  \nWir freuen uns auf euch!
URL:https://gdpnrw.de/borken/event/junge-gruppe-laedt-ein-gemeinsam-auf-den-weihnachtsmarkt/
ATTACH;FMTTYPE=image/jpeg:https://gdpnrw.de/borken/wp-content/uploads/sites/12/2019/12/GDP-Weihnachtsmarktbesuch-2019.jpg
ORGANIZER;CN="GdP-Kreisgruppe Borken":MAILTO:gdp-borken@web.de
END:VEVENT
BEGIN:VEVENT
DTSTART;TZID=Europe/Berlin:20191209T140000
DTEND;TZID=Europe/Berlin:20191209T180000
DTSTAMP:20260425T160740
CREATED:20191121T160023Z
LAST-MODIFIED:20191203T081830Z
UID:18-1575900000-1575914400@gdpnrw.de
SUMMARY:Mitgliederversammlung der GdP-Kreisgruppe Borken
DESCRIPTION:Am Montag\, den 09. Dezember 2019\, 16.00 Uhr\, findet im Gasthaus „Terrahe“\, Königstraße 6\, 48691 Vreden\, unsere diesjährige Mitgliederversammlung statt. Zu dieser Versammlung darf ich euch recht herzlich einladen. \n\n\n\nTagesordnung: \n  \n1. Begrüßung \n2. Wahl des Versammlungsleiters \n3. Eröffnung der Mitgliederversammlung \n4. Ehrung der langjährigen GdP-Mitglieder \n5. Vortrag und Podiumsgespräch zu den Themen Schmerzensgeld und Dienstunfall durch bzw. mit den beiden Rechtsanwälten Herr Ollmann und Herr Imberg der Kanzlei bn.Rechtsanwälte aus Bochum \n6. Geschäftsberichte \n– des Kreisgruppenvorsitzenden \n– der Kassiererin \n– der Kassenprüfer \n7. Aussprache zu den Berichten \n8. Wahlen \n– der Kassenprüfer und Vertrauensleute \n9. Verschiedenes \n10. Schlusswort \n\n\nWir möchten euch im Vorfeld der Versammlung die Gelegenheit geben\, ein wenig zu klönen und laden hierzu alle Interessierten zur Münsterländer Kaffeetafel ab 14.00 Uhr auf Kosten der Kreisgruppe ein. \nAnmeldungen hierzu richtet bitte bis zum 03.12.2019 an Antje Ellerkmann\, Markus Hümmelink oder Georg Hovestädt. Tel.: 02861/900-1013\, 1011 oder 1010. \n  \nUnter den anwesenden Mitgliedern werden zwei Abendessen für jeweils zwei Personen verlost.
URL:https://gdpnrw.de/borken/event/sport/
LOCATION:GdP-Mitgliederversammlung\, Königstr. 6\, Vreden\, NRW\, 48691
ATTACH;FMTTYPE=image/jpeg:https://gdpnrw.de/borken/wp-content/uploads/sites/12/2019/11/Du_wirbst_400.jpg
ORGANIZER;CN="GdP-Kreisgruppe Borken":MAILTO:gdp-borken@web.de
END:VEVENT
END:VCALENDAR