BEGIN:VCALENDAR
VERSION:2.0
PRODID:-//Kreisgruppe Bielefeld - ECPv6.15.20//NONSGML v1.0//EN
CALSCALE:GREGORIAN
METHOD:PUBLISH
X-ORIGINAL-URL:https://gdpnrw.de/bielefeld
X-WR-CALDESC:Veranstaltungen für Kreisgruppe Bielefeld
REFRESH-INTERVAL;VALUE=DURATION:PT1H
X-Robots-Tag:noindex
X-PUBLISHED-TTL:PT1H
BEGIN:VTIMEZONE
TZID:Europe/Berlin
BEGIN:DAYLIGHT
TZOFFSETFROM:+0100
TZOFFSETTO:+0200
TZNAME:CEST
DTSTART:20190331T010000
END:DAYLIGHT
BEGIN:STANDARD
TZOFFSETFROM:+0200
TZOFFSETTO:+0100
TZNAME:CET
DTSTART:20191027T010000
END:STANDARD
BEGIN:DAYLIGHT
TZOFFSETFROM:+0100
TZOFFSETTO:+0200
TZNAME:CEST
DTSTART:20200329T010000
END:DAYLIGHT
BEGIN:STANDARD
TZOFFSETFROM:+0200
TZOFFSETTO:+0100
TZNAME:CET
DTSTART:20201025T010000
END:STANDARD
BEGIN:DAYLIGHT
TZOFFSETFROM:+0100
TZOFFSETTO:+0200
TZNAME:CEST
DTSTART:20210328T010000
END:DAYLIGHT
BEGIN:STANDARD
TZOFFSETFROM:+0200
TZOFFSETTO:+0100
TZNAME:CET
DTSTART:20211031T010000
END:STANDARD
BEGIN:DAYLIGHT
TZOFFSETFROM:+0100
TZOFFSETTO:+0200
TZNAME:CEST
DTSTART:20220327T010000
END:DAYLIGHT
BEGIN:STANDARD
TZOFFSETFROM:+0200
TZOFFSETTO:+0100
TZNAME:CET
DTSTART:20221030T010000
END:STANDARD
BEGIN:DAYLIGHT
TZOFFSETFROM:+0100
TZOFFSETTO:+0200
TZNAME:CEST
DTSTART:20230326T010000
END:DAYLIGHT
BEGIN:STANDARD
TZOFFSETFROM:+0200
TZOFFSETTO:+0100
TZNAME:CET
DTSTART:20231029T010000
END:STANDARD
BEGIN:DAYLIGHT
TZOFFSETFROM:+0100
TZOFFSETTO:+0200
TZNAME:CEST
DTSTART:20240331T010000
END:DAYLIGHT
BEGIN:STANDARD
TZOFFSETFROM:+0200
TZOFFSETTO:+0100
TZNAME:CET
DTSTART:20241027T010000
END:STANDARD
BEGIN:DAYLIGHT
TZOFFSETFROM:+0100
TZOFFSETTO:+0200
TZNAME:CEST
DTSTART:20250330T010000
END:DAYLIGHT
BEGIN:STANDARD
TZOFFSETFROM:+0200
TZOFFSETTO:+0100
TZNAME:CET
DTSTART:20251026T010000
END:STANDARD
BEGIN:DAYLIGHT
TZOFFSETFROM:+0100
TZOFFSETTO:+0200
TZNAME:CEST
DTSTART:20260329T010000
END:DAYLIGHT
BEGIN:STANDARD
TZOFFSETFROM:+0200
TZOFFSETTO:+0100
TZNAME:CET
DTSTART:20261025T010000
END:STANDARD
END:VTIMEZONE
BEGIN:VEVENT
DTSTART;VALUE=DATE:20251127
DTEND;VALUE=DATE:20251128
DTSTAMP:20260426T042704
CREATED:20250209T125158Z
LAST-MODIFIED:20250209T125201Z
UID:10000168-1764201600-1764287999@gdpnrw.de
SUMMARY:Brauereibesichtigung 2025
DESCRIPTION:Weitere Informationen folgen.
URL:https://gdpnrw.de/bielefeld/event/brauereibesichtigung-2025/
LOCATION:Privat-Brauerei Strate Detmold GmbH & Co. KG\, Palaisstraße 1\, Detmold\, 32756\, Deutschland
END:VEVENT
BEGIN:VEVENT
DTSTART;TZID=Europe/Berlin:20241128T150000
DTEND;TZID=Europe/Berlin:20241128T150000
DTSTAMP:20260426T042704
CREATED:20240201T070027Z
LAST-MODIFIED:20241119T135843Z
UID:10000149-1732806000-1732806000@gdpnrw.de
SUMMARY:Brauereibesichtigung 2024
DESCRIPTION:Man könnte meinen\, es wäre jahrzehntelange Tradition – ähnlich wie beim GdP-Fußballturnier. Auch in diesem Jahr soll es wieder eine Brauereibesichtigung bei der Privat-Brauerei-Strate in Detmold geben. \nNach einer Betriebsführung findet bei leckerer Schweinshaxe und Krautsalat die Bierverkostung statt! \nDas Wichtigste:\n\n\nDatum & Zeit:\n28.11.2024\, 15:00 Uhr\n\n\nVeranstaltungsort:\nPrivat-Brauerei-StratePalaisstraße 1\, 32756 Detmold\n\n\nKostenanteil:\n25\,00 EUR\n\n\nAnmeldung an:\ninfo@gdp-bielefeld oder +49 160 143 2878 (WhatsApp)\n\n\nWeitere Infos folgen.
URL:https://gdpnrw.de/bielefeld/event/brauereibesichtigung-2024/
LOCATION:Privat-Brauerei Strate Detmold GmbH & Co. KG\, Palaisstraße 1\, Detmold\, 32756\, Deutschland
ATTACH;FMTTYPE=image/jpeg:https://gdpnrw.de/bielefeld/wp-content/uploads/sites/9/2022/05/IMG_20220505_150944-scaled.jpg
END:VEVENT
BEGIN:VEVENT
DTSTART;TZID=Europe/Berlin:20231116T150000
DTEND;TZID=Europe/Berlin:20231116T180000
DTSTAMP:20260426T042704
CREATED:20230313T222625Z
LAST-MODIFIED:20230325T130213Z
UID:10000098-1700146800-1700157600@gdpnrw.de
SUMMARY:Brauereibesichtigung
DESCRIPTION:Sei dabei und besuche mit der GdP Bielefeld die schönste Privat-Brauerei Deutschlands – Privat-Brauerei Strate in Detmold. \nProgramm:\n\nBetriebsführung\nausgiebige Bierverkostung mit leckerer Schweinshaxe und Krautsalat\n\nDas Wichtigste:\n\n\nDatum & Zeit:\n16.11.2023\, 15:00 Uhr\n\n\nAnmeldung an:\ninfo@gdp-bielefeld oderJörg Niggemeier\n\n\nAnmeldeschluss:\n08.11.2023\n\n\nKostenanteil:\n25\,00 €/ Person (GdP-Mitglied)37\,95 €/ Person
URL:https://gdpnrw.de/bielefeld/event/brauereibesichtigung/
LOCATION:Privat-Brauerei Strate Detmold GmbH & Co. KG\, Palaisstraße 1\, Detmold\, 32756\, Deutschland
ATTACH;FMTTYPE=image/jpeg:https://gdpnrw.de/bielefeld/wp-content/uploads/sites/9/2023/03/Brauereibesichtigung.jpg
END:VEVENT
BEGIN:VEVENT
DTSTART;TZID=Europe/Berlin:20220505T140000
DTEND;TZID=Europe/Berlin:20220505T235900
DTSTAMP:20260426T042704
CREATED:20220228T172413Z
LAST-MODIFIED:20220417T113742Z
UID:10000085-1651759200-1651795140@gdpnrw.de
SUMMARY:Brauereibesichtigung
DESCRIPTION:Anmeldungen unter bielefeld@gdp-nrw.de
URL:https://gdpnrw.de/bielefeld/event/brauereibesichtigung-strate-in-detmold/
LOCATION:Privat-Brauerei Strate Detmold GmbH & Co. KG\, Palaisstraße 1\, Detmold\, 32756\, Deutschland
ATTACH;FMTTYPE=image/jpeg:https://gdpnrw.de/bielefeld/wp-content/uploads/sites/9/2022/04/Brauereibesichtigung-05052022-scaled.jpg
END:VEVENT
BEGIN:VEVENT
DTSTART;TZID=Europe/Berlin:20200514T150000
DTEND;TZID=Europe/Berlin:20200514T200000
DTSTAMP:20260426T042704
CREATED:20200219T143808Z
LAST-MODIFIED:20200505T190411Z
UID:10000073-1589468400-1589486400@gdpnrw.de
SUMMARY:ABGESAGT - Brauereibesichtigung Privatbrauerei Strate
DESCRIPTION:
URL:https://gdpnrw.de/bielefeld/event/brauereibesichtigung-privatbrauerei-strate/
LOCATION:Privat-Brauerei Strate Detmold GmbH & Co. KG\, Palaisstraße 1\, Detmold\, 32756\, Deutschland
END:VEVENT
END:VCALENDAR