BEGIN:VCALENDAR
VERSION:2.0
PRODID:-//Kreisgruppe Bergisches Land - ECPv6.15.17.1//NONSGML v1.0//EN
CALSCALE:GREGORIAN
METHOD:PUBLISH
X-WR-CALNAME:Kreisgruppe Bergisches Land
X-ORIGINAL-URL:https://gdpnrw.de/bergisches-land
X-WR-CALDESC:Veranstaltungen für Kreisgruppe Bergisches Land
REFRESH-INTERVAL;VALUE=DURATION:PT1H
X-Robots-Tag:noindex
X-PUBLISHED-TTL:PT1H
BEGIN:VTIMEZONE
TZID:Europe/Berlin
BEGIN:DAYLIGHT
TZOFFSETFROM:+0100
TZOFFSETTO:+0200
TZNAME:CEST
DTSTART:20210328T010000
END:DAYLIGHT
BEGIN:STANDARD
TZOFFSETFROM:+0200
TZOFFSETTO:+0100
TZNAME:CET
DTSTART:20211031T010000
END:STANDARD
BEGIN:DAYLIGHT
TZOFFSETFROM:+0100
TZOFFSETTO:+0200
TZNAME:CEST
DTSTART:20220327T010000
END:DAYLIGHT
BEGIN:STANDARD
TZOFFSETFROM:+0200
TZOFFSETTO:+0100
TZNAME:CET
DTSTART:20221030T010000
END:STANDARD
BEGIN:DAYLIGHT
TZOFFSETFROM:+0100
TZOFFSETTO:+0200
TZNAME:CEST
DTSTART:20230326T010000
END:DAYLIGHT
BEGIN:STANDARD
TZOFFSETFROM:+0200
TZOFFSETTO:+0100
TZNAME:CET
DTSTART:20231029T010000
END:STANDARD
BEGIN:DAYLIGHT
TZOFFSETFROM:+0100
TZOFFSETTO:+0200
TZNAME:CEST
DTSTART:20240331T010000
END:DAYLIGHT
BEGIN:STANDARD
TZOFFSETFROM:+0200
TZOFFSETTO:+0100
TZNAME:CET
DTSTART:20241027T010000
END:STANDARD
END:VTIMEZONE
BEGIN:VEVENT
DTSTART;TZID=Europe/Berlin:20230315T140000
DTEND;TZID=Europe/Berlin:20230315T160000
DTSTAMP:20260421T161841
CREATED:20230313T204944Z
LAST-MODIFIED:20230313T204944Z
UID:10000134-1678888800-1678896000@gdpnrw.de
SUMMARY:Jahreshauptversammlung 2023
DESCRIPTION:GdP KG Einladung 2023 03 15 JHV 2023
URL:https://gdpnrw.de/bergisches-land/event/jahreshauptversammlung-2023/
LOCATION:Polizeipräsidium Wuppertal\, Friedrich-Engels-Alle 228\, Wuppertal\, Nordrhein-Westfalen\, 42285\, Deutschland
ORGANIZER;CN="Kreisgruppe Bergisches Land":MAILTO:kreisgruppe@gdp-bergisches-land.de
END:VEVENT
BEGIN:VEVENT
DTSTART;TZID=Europe/Berlin:20220817T170000
DTEND;TZID=Europe/Berlin:20220817T200000
DTSTAMP:20260421T161841
CREATED:20220803T064736Z
LAST-MODIFIED:20220812T034408Z
UID:10000133-1660755600-1660766400@gdpnrw.de
SUMMARY:Abgesagt: Vortreffen für künftige KA -GdP Kreisgruppe Bergisches Land\, 17.08.22\, 17.00 Uhr-
DESCRIPTION:Liebe künftigen Kolleginnen und Kollegen\, \nleider müssen wir das Vortreffen mangels Anmeldungen absagen! \nNach wie vor könnt ihr am Vortreffen der KG Düsseldorf (als Sitz der Ausbildungsleitung) teilnehmen\, dieses findet am \nDonnerstag\, 25.08.2022\, 17.00 h\, Lounge Inn\,\nFrans-Hals-Weg 2 a\, 40724 Hilden \nstatt. \nLiebe Grüße \nGdP KG Bergisches Land
URL:https://gdpnrw.de/bergisches-land/event/vortreffen-fuer-zukuenftige-ka-gdp-kreisgruppe-bergisches-land-17-08-22-17-00-uhr/
LOCATION:Polizeipräsidium Wuppertal\, Friedrich-Engels-Alle 228\, Wuppertal\, Nordrhein-Westfalen\, 42285\, Deutschland
ATTACH;FMTTYPE=image/jpeg:https://gdpnrw.de/bergisches-land/wp-content/uploads/sites/8/2020/01/GDP-Kreisgruppe-Bergisches-Land_kleiner.jpg
ORGANIZER;CN="Kreisgruppe Bergisches Land":MAILTO:kreisgruppe@gdp-bergisches-land.de
END:VEVENT
END:VCALENDAR